BEGIN:VCALENDAR
VERSION:2.0
PRODID:-//wp-events-plugin.com//7.2.3.1//EN
TZID:Europe/Berlin
X-WR-TIMEZONE:Europe/Berlin
BEGIN:VEVENT
UID:12946@literaturseiten-muenchen.de
DTSTART;TZID=Europe/Berlin:20260512T190000
DTEND;TZID=Europe/Berlin:20260512T203000
DTSTAMP:20260415T160627Z
URL:https://www.literaturseiten-muenchen.de/veranstaltungen/literatursalon
 -im-kontaktee-4/
SUMMARY:Literatursalon im KontakTee
DESCRIPTION:Schreibende lesen nur selbstverfasste literarische Texte und la
 ssen sich dadurch zu konstruktiven Gesprächen darüber anregen. Auch Zuh
 örende\, die mitreden dürfen\, sind willkommen.\n\nModerator: Raimund Fe
 llner M.A.\n\nImmer am zweiten Dienstag im ungeraden Monat\n\nEintritt fre
 i
CATEGORIES:Schreibwerkstatt
LOCATION:KontakTee\, Balanstraße 17\, München\, Bayern\, 81669\, Oberbaye
 rn\, Deutschland
GEO:48.12697;11.595108
X-APPLE-STRUCTURED-LOCATION;VALUE=URI;X-ADDRESS=Balanstraße 17\, München\
 , Bayern\, 81669\, Oberbayern\, Deutschland;X-APPLE-RADIUS=100;X-TITLE=Kon
 takTee:geo:48.12697,11.595108
END:VEVENT
BEGIN:VTIMEZONE
TZID:Europe/Berlin
X-LIC-LOCATION:Europe/Berlin
BEGIN:DAYLIGHT
DTSTART:20260329T030000
TZOFFSETFROM:+0100
TZOFFSETTO:+0200
TZNAME:CEST
END:DAYLIGHT
END:VTIMEZONE
END:VCALENDAR