BEGIN:VCALENDAR
VERSION:2.0
PRODID:-//wp-events-plugin.com//7.2.3.1//EN
TZID:Europe/Berlin
X-WR-TIMEZONE:Europe/Berlin
BEGIN:VEVENT
UID:12395@literaturseiten-muenchen.de
DTSTART;TZID=Europe/Berlin:20260326T193000
DTEND;TZID=Europe/Berlin:20260326T193000
DTSTAMP:20260117T201736Z
URL:https://www.literaturseiten-muenchen.de/veranstaltungen/lola-randl-der
 -lebende-beweis/
SUMMARY:Lola Randl: Der lebende Beweis
DESCRIPTION:Der lebende Beweis erzählt von einer Frau Mitte 40\, die eine 
 zunehmende Entfremdung verspürt – von ihrer Umgebung\, ihrer Familie un
 d von sich selbst. Zurückgezogen auf den Dachboden ihres Hauses\, blickt
  sie auf das Dorf\, in das sie einst voller Hoffnung gezogen ist. In dem V
 ersuch\, die Welt um sich herum und ihre Position darin neu zu begreifen\,
  beginnt sie eine »wissenschaftliche Untersuchung des kollektiven Bewusst
 en und Unbewussten des Ortes«.\nDer lebende Beweis ist eine Reflexion üb
 er soziale Dilemmata und die Durchlässigkeit der Grenzen zwischen Innen u
 nd Außen\, Individuum und Kollektiv. Formen wir die Welt\, oder formt sie
  uns? Oder ist das überhaupt ein Widerspruch?\nModeration: Jakob Rauch\nE
 intritt: 15 Euro
CATEGORIES:Lesung
LOCATION:Rauch &amp\; König Buchladen\, Herzogstraße 84\, München\, 8079
 6\, Deutschland
GEO:48.162977;11.572231
X-APPLE-STRUCTURED-LOCATION;VALUE=URI;X-ADDRESS=Herzogstraße 84\, München
 \, 80796\, Deutschland;X-APPLE-RADIUS=100;X-TITLE=Rauch & König Buchladen
 :geo:48.162977,11.572231
END:VEVENT
BEGIN:VTIMEZONE
TZID:Europe/Berlin
X-LIC-LOCATION:Europe/Berlin
BEGIN:STANDARD
DTSTART:20251026T020000
TZOFFSETFROM:+0200
TZOFFSETTO:+0100
TZNAME:CET
END:STANDARD
END:VTIMEZONE
END:VCALENDAR