BEGIN:VCALENDAR
VERSION:2.0
PRODID:-//wp-events-plugin.com//7.2.3.1//EN
TZID:Europe/Berlin
X-WR-TIMEZONE:Europe/Berlin
BEGIN:VEVENT
UID:11285@literaturseiten-muenchen.de
DTSTART;TZID=Europe/Berlin:20251203T180000
DTEND;TZID=Europe/Berlin:20251203T193000
DTSTAMP:20250602T140001Z
URL:https://www.literaturseiten-muenchen.de/veranstaltungen/long-island-by
 -colm-toibin/
SUMMARY:"Long Island" by Colm Tóibín
DESCRIPTION:This month\, the Amerikahaus Literary Circle discusses Long Isl
 and by Colm Tóibín.\n\nWhat are twenty years of sedentariness for you? 
 Colm Tóibín’s Long Island deals with that question. When Eilis Fiore
 llo opens the door of her family home to a stranger\, thoughts of her home
 land and past begin to rise in Eilis\, which make her rethink all of her l
 ife choices. Was it the right thing to have moved to Long Island and to ha
 ve married years ago?\n\nWant to read this month’s Literary Circle book 
 choice and enjoy using an e-reader? You can read Long Island by Colm Tói
 bín for free when you join the Amerikahaus eBook Club! See here for more
  information about the eBook Club and how to sign up and access hundreds 
 of gratis books and audiobooks!\n\nLearn more about the Amerikahaus Litera
 ry Circle.\n\nFree admission\, no registration is necessary.
CATEGORIES:Lesekreis
LOCATION:Amerikahaus\, Karolinenplatz 3\, München\, 80333\, Deutschland
GEO:48.144416;11.568125
X-APPLE-STRUCTURED-LOCATION;VALUE=URI;X-ADDRESS=Karolinenplatz 3\, München
 \, 80333\, Deutschland;X-APPLE-RADIUS=100;X-TITLE=Amerikahaus:geo:48.14441
 6,11.568125
END:VEVENT
BEGIN:VTIMEZONE
TZID:Europe/Berlin
X-LIC-LOCATION:Europe/Berlin
BEGIN:STANDARD
DTSTART:20251026T020000
TZOFFSETFROM:+0200
TZOFFSETTO:+0100
TZNAME:CET
END:STANDARD
END:VTIMEZONE
END:VCALENDAR