BEGIN:VCALENDAR
VERSION:2.0
PRODID:-//wp-events-plugin.com//7.2.3.1//EN
TZID:Europe/Berlin
X-WR-TIMEZONE:Europe/Berlin
BEGIN:VEVENT
UID:12938@literaturseiten-muenchen.de
DTSTART;TZID=Europe/Berlin:20260504T183000
DTEND;TZID=Europe/Berlin:20260504T183000
DTSTAMP:20260415T155331Z
URL:https://www.literaturseiten-muenchen.de/veranstaltungen/lyrik-prosa-du
 -2/
SUMMARY:Lyrik – Prosa – Du
DESCRIPTION:Giesinger Schreibwerkstatt\n\nSchreib\, was du willst – und w
 ie du bist!\n\nBei der Schreibwerkstatt sind alle Giesinger Schreiberlinge
  willkommen und die\, die es werden wollen.\n\nEgal ob Lyrik\, Kurzgeschic
 hten\, Poetry Slam Texte oder irgendwas dazwischen – hier treffen sich a
 lle\, die gern mit Worten jonglieren oder Rhythmen skandieren. Ob zarte Ve
 rse\, wilde Metaphern\, lautmalerische Experimente oder doppelsinnige Spra
 chspiele – hier ist Raum\, um auszuprobieren\, zu teilen\, zu lauschen u
 nd inspiriert zu werden. Es gibt kleine Impulse\, kreative Übungen und di
 e Möglichkeit\, eigene Texte in einem wertschätzenden Rahmen zu teilen. 
 Kein richtig\, kein falsch: Hier zählen Neugier\, Ausprobieren und der Sp
 aß am kreativen Prozess.\n\nLisa Lipp und Tanja Wagner begleiten und unte
 rstützen Euch im Schreibatelier und freuen sich gleichermaßen über neue
  Gesichter und alte Bekannte.\n\nDie Schreibwerkstatt findet monatlich im 
 Giesinger Bahnhof statt. Das Kulturzentrum stellt den Raum – ihr bringt 
 eure Ideen. Damit wir dieses und andere partizipative Angebote mit regelm
 äßiger Begleitung anbieten können\, freuen wir uns über einen Unkosten
 beitrag für die jeweiligen Anleitungen nach euren Möglichkeiten (zwische
 n 2 und 10 Euro). Wer mehr geben kann\, hilft uns\, diese Angebote langfri
 stig zu sichern – danke dafür!\n\nVeranstaltungsraum: Süd-Pavillon\, 1
 . Stock | nicht barrierefrei\n\nKeine Anmeldung notwendig\n\nEintritt frei
  / Spenden erwünscht Barrierefreiheit
CATEGORIES:Schreibwerkstatt
LOCATION:Giesinger Bahnhof\, Giesinger Bahnhofplatz 1\, München\, 81539\, 
 Deutschland
GEO:48.110268;11.596177000000012
X-APPLE-STRUCTURED-LOCATION;VALUE=URI;X-ADDRESS=Giesinger Bahnhofplatz 1\, 
 München\, 81539\, Deutschland;X-APPLE-RADIUS=100;X-TITLE=Giesinger Bahnho
 f:geo:48.110268,11.596177000000012
END:VEVENT
BEGIN:VTIMEZONE
TZID:Europe/Berlin
X-LIC-LOCATION:Europe/Berlin
BEGIN:DAYLIGHT
DTSTART:20260329T030000
TZOFFSETFROM:+0100
TZOFFSETTO:+0200
TZNAME:CEST
END:DAYLIGHT
END:VTIMEZONE
END:VCALENDAR