BEGIN:VCALENDAR
VERSION:2.0
PRODID:-//wp-events-plugin.com//7.2.3.1//EN
TZID:Europe/Berlin
X-WR-TIMEZONE:Europe/Berlin
BEGIN:VEVENT
UID:11928@literaturseiten-muenchen.de
DTSTART;TZID=Europe/Berlin:20251115T190000
DTEND;TZID=Europe/Berlin:20251115T210000
DTSTAMP:20251014T191726Z
URL:https://www.literaturseiten-muenchen.de/veranstaltungen/madame-ziegler
 s-salon/
SUMMARY:Madame Zieglers Salon
DESCRIPTION:Anlässlich des Bachfests München präsentieren Gabi Altenbach
  und Ines Honsel die StoryPerformance „Madame Zieglers Salon“ – eine
  Hommage an Christiane Mariane von Ziegler und Anna Magdalena Bach\, zwei 
 Frauen\, die Johann Sebastian Bachs Leben prägten.\nIn intimen Münchner 
 Wohnzimmern lassen Altenbach + Honsel\, begleitet von Karin Füssel am Akk
 ordeon\, die Tradition der literarischen Salons des 18. Jahrhunderts aufle
 ben. Sie verbinden Storytelling\, Musik und Interaktion und laden das Publ
 ikum ein\, aktiv teilzunehmen – wie damals\, als Dialog und Kreativität
  im Vordergrund standen.\n„Madame Zieglers Salon“ beleuchtet die Bedeu
 tung von Frauen in der Geschichte und zeigt\, wie ihre Geschichten bis heu
 te nachwirken an einem Abend voller Inspiration\, Musik und Austausch.\nEi
 ntritt 15 / 20 Euro\nKarten unter info@altenbach-honsel.com
CATEGORIES:Literatur &amp; Musik
LOCATION:Seidlvilla\, Nikolaiplatz 1b\, München\, 80802\, Deutschland
GEO:48.15867;11.587729999999965
X-APPLE-STRUCTURED-LOCATION;VALUE=URI;X-ADDRESS=Nikolaiplatz 1b\, München\
 , 80802\, Deutschland;X-APPLE-RADIUS=100;X-TITLE=Seidlvilla:geo:48.15867,1
 1.587729999999965
END:VEVENT
BEGIN:VTIMEZONE
TZID:Europe/Berlin
X-LIC-LOCATION:Europe/Berlin
BEGIN:STANDARD
DTSTART:20251026T020000
TZOFFSETFROM:+0200
TZOFFSETTO:+0100
TZNAME:CET
END:STANDARD
END:VTIMEZONE
END:VCALENDAR