BEGIN:VCALENDAR
VERSION:2.0
PRODID:-//wp-events-plugin.com//7.2.3.1//EN
TZID:Europe/Berlin
X-WR-TIMEZONE:Europe/Berlin
BEGIN:VEVENT
UID:11551@literaturseiten-muenchen.de
DTSTART;TZID=Europe/Berlin:20250911T150000
DTEND;TZID=Europe/Berlin:20250911T170000
DTSTAMP:20250808T134347Z
URL:https://www.literaturseiten-muenchen.de/veranstaltungen/maerchen-triff
 t-neurographikaphik/
SUMMARY:Märchen trifft NeuroGraphikaphik
DESCRIPTION:Thea und Sabine bezaubern mit Märchen\, die berühren und neue
  Perspektiven schenken.\nIhre verborgenen Wahrheiten und Botschaften halte
 n wir mit der Magie der NeuroGraphik fest. Zeichenkenntnisse sind nicht no
 twendig\nhttps://sabine-m-paul.de
CATEGORIES:Gespräch / Diskussion,Lesung,Literarischer
 Spaziergang,Vortrag,Weitere Veranstaltungen
LOCATION:Zwischennutzung von Mehr Platz zum Leben\, Hebenstreitstraße 2\, 
 München\, Bayern\, 81543\, Untergiesing\, Deutschland
GEO:48.118161;11.575944
X-APPLE-STRUCTURED-LOCATION;VALUE=URI;X-ADDRESS=Hebenstreitstraße 2\, Mün
 chen\, Bayern\, 81543\, Untergiesing\, Deutschland;X-APPLE-RADIUS=100;X-TI
 TLE=Zwischennutzung von Mehr Platz zum Leben:geo:48.118161,11.575944
END:VEVENT
BEGIN:VTIMEZONE
TZID:Europe/Berlin
X-LIC-LOCATION:Europe/Berlin
BEGIN:DAYLIGHT
DTSTART:20250330T030000
TZOFFSETFROM:+0100
TZOFFSETTO:+0200
TZNAME:CEST
END:DAYLIGHT
END:VTIMEZONE
END:VCALENDAR