BEGIN:VCALENDAR
VERSION:2.0
PRODID:-//wp-events-plugin.com//7.2.3.1//EN
TZID:Europe/Berlin
X-WR-TIMEZONE:Europe/Berlin
BEGIN:VEVENT
UID:12252@literaturseiten-muenchen.de
DTSTART;TZID=Europe/Berlin:20260120T200000
DTEND;TZID=Europe/Berlin:20260120T200000
DTSTAMP:20251212T174903Z
URL:https://www.literaturseiten-muenchen.de/veranstaltungen/maria-popov-ke
 in-bock-club/
SUMMARY:Maria Popov »Kein Bock Club«
DESCRIPTION:Sexuelle Lust gilt als Maßstab für Intimität\, Beziehungsqua
 lität und persönliche Erfüllung. Doch was passiert\, wenn sie ausbleibt
 ? Wenn wir keinen Bock auf Sex haben\, obwohl »eigentlich alles stimmt«?
  Wenn »Ich bin müde« nur eine Umschreibung für etwas ist\, das wir sel
 bst kaum benennen können?\n\nSchon in ihrer Jugend hatte Maria Popov nie 
 richtig Bock auf Sex mit Männern und stößt auf ein Wort\, das ihr Gefü
 hl zum ersten Mal beschreibt: Asexualität. Aber was heißt das eigentlich
  genau?\n\nIn »Kein Bock Club« erzählt die Moderatorin von ihrer ersten
  Periode\, missglückten Flirtversuchen\, aufregenden Ohrmassagen – und 
 von der Erleichterung\, wenn man merkt: Ich bin mit all diesen Gefühlen n
 icht allein.\n\nMit Scharfsinn und Humor deckt Maria Popov Mythen rund um 
 Libido\, Beziehungen und Sexualität auf. Sie erklärt\, wie Lust funktion
 iert\, warum sexuelle Vielfalt mehr ist als nur eine Identitätsfrage ist 
 und was passiert\, wenn wir aufhören\, Lustlosigkeit als Defizit zu betra
 chten.\n\n»Kein Bock Club« ist eine Einladung\, Begehren neu zu denken 
 – zärtlicher\, ehrlicher\, mutiger.\n\nEinlass: 19:30 Uhr\nTickets: 19\
 ,80€\, loveyourartist.com
CATEGORIES:Lesung
LOCATION:Heppel &amp\; Ettlich\, Feilitzschstr. 12\, München\, Deutschland
GEO:48.161154;11.588873
X-APPLE-STRUCTURED-LOCATION;VALUE=URI;X-ADDRESS=Feilitzschstr. 12\, Münche
 n\, Deutschland;X-APPLE-RADIUS=100;X-TITLE=Heppel & Ettlich:geo:48.161154,
 11.588873
END:VEVENT
BEGIN:VTIMEZONE
TZID:Europe/Berlin
X-LIC-LOCATION:Europe/Berlin
BEGIN:STANDARD
DTSTART:20251026T020000
TZOFFSETFROM:+0200
TZOFFSETTO:+0100
TZNAME:CET
END:STANDARD
END:VTIMEZONE
END:VCALENDAR