BEGIN:VCALENDAR
VERSION:2.0
PRODID:-//wp-events-plugin.com//7.2.3.1//EN
TZID:Europe/Berlin
X-WR-TIMEZONE:Europe/Berlin
BEGIN:VEVENT
UID:11687@literaturseiten-muenchen.de
DTSTART;TZID=Europe/Berlin:20251030T190000
DTEND;TZID=Europe/Berlin:20251030T203000
DTSTAMP:20250903T111908Z
URL:https://www.literaturseiten-muenchen.de/veranstaltungen/mascha-kaleko-
 wenn-ich-eine-wolke-waere-ein-abend-mit-volker-weidermann/
SUMMARY:»Mascha Kaléko: ›Wenn ich eine Wolke wäre‹« Ein Abend mit V
 olker Weidermann
DESCRIPTION:Moderation: Kerstin Holzer\n\nFür Mascha Kaléko war Berlin de
 r urbane Resonanzraum ihrer Gedichte\, die Stadt ihrer ersten Erfolge – 
 und ihrer Verluste. Erst im Januar 1956 kehrt sie\, nach 17 Jahren Exil\, 
 zurück. Volker Weidermann\, Autor gefeierter Bestseller (»Mann vom Meer
 «\, »Ostende«)\, folgt einem einzigen Jahr im Leben der Dichterin und e
 ntfaltet zugleich ein ganzes deutsch-jüdisches Leben. Mit sicherem Gespü
 r für biografische Verdichtung erzählt er von Flucht und Heimkehr\, von 
 Sprachverlust und poetischer Beharrlichkeit\, von Exil\, Erinnerung und gr
 oßer Liebe (»Wenn ich eine Wolke wäre – Mascha Kaléko und die Reise 
 ihres Lebens« // Kiepenheuer &amp\; Witsch).\n\nTickets erhältlich unter
  Reservix\nEINTRITT: EURO 16.- / 10.-\nSTREAM-TICKETS: EURO 8.-\n\nVeranst
 alter: Stiftung Literaturhaus\n\n
CATEGORIES:Buchpräsentation,Gespräch / Diskussion,Lesekreis
LOCATION:Literaturhaus München\, Salvatorplatz 1\, München\, Bayern\, 803
 33\, Deutschland
GEO:48.142051;11.574991
X-APPLE-STRUCTURED-LOCATION;VALUE=URI;X-ADDRESS=Salvatorplatz 1\, München\
 , Bayern\, 80333\, Deutschland;X-APPLE-RADIUS=100;X-TITLE=Literaturhaus M
 ünchen:geo:48.142051,11.574991
END:VEVENT
BEGIN:VTIMEZONE
TZID:Europe/Berlin
X-LIC-LOCATION:Europe/Berlin
BEGIN:STANDARD
DTSTART:20251026T020000
TZOFFSETFROM:+0200
TZOFFSETTO:+0100
TZNAME:CET
END:STANDARD
END:VTIMEZONE
END:VCALENDAR