BEGIN:VCALENDAR
VERSION:2.0
PRODID:-//wp-events-plugin.com//7.2.3.1//EN
TZID:Europe/Berlin
X-WR-TIMEZONE:Europe/Berlin
BEGIN:VEVENT
UID:12930@literaturseiten-muenchen.de
DTSTART;TZID=Europe/Berlin:20260504T190000
DTEND;TZID=Europe/Berlin:20260504T203000
DTSTAMP:20260415T080607Z
URL:https://www.literaturseiten-muenchen.de/veranstaltungen/matthias-glaub
 recht-klima-versus-arten-vom-stillen-sterben-der-natur-und-dem-ueberleben-
 der-arten/
SUMMARY:Matthias Glaubrecht: Klima versus Arten? Vom stillen Sterben der Na
 tur und dem Überleben der Arten
DESCRIPTION:Der Populationsverlust von Arten ist schleichend\, die Klimakri
 se mit ihren Extremwetterereignissen aber unübersehbar. Dabei hängt beid
 es eng zusammen. In seinem aktuellen Buch „Das stille Sterben der Natur:
  Wie wir die Artenvielfalt und uns selbst retten“ stellt Matthias Glaubr
 echt dar\, wie wir durch den alleinigen Fokus auf die Klimakrise die exist
 enzielle Bedrohung durch das Artensterben übersehen und damit uns selbst 
 gefährden. Es müsste globaler gedacht werden\, um dem stillen Sterben de
 r gesamten Natur tatsächlich Einhalt gebieten zu können.\n\nProf. Dr. Ma
 tthias Glaubrecht\nist ein deutscher Evolutionsbiologe\, Biosystematiker\,
  Wissenschaftshistoriker und Buchautor. Er war von 2014 bis 2021 Direktor 
 des Centrums für Naturkunde in Hamburg. Seit Juni 2021 baut er als Wissen
 schaftlicher Projektleiter "Evolutioneum" für das Leibniz-Institut zur An
 alyse des Biodiversitätswandels das Naturkundemuseum in Hamburg auf. Im A
 pril 2024 erscheint sein Buch "Das stille Sterben der Natur: Wie wir die A
 rtenvielfalt und uns selbst retten".\n\nAnmeldung unter:\nhttps://www.stad
 takademie-muenchen.de/veranstaltung/klima-versus-arten/
CATEGORIES:Buchpräsentation,Gespräch / Diskussion,Vortrag
LOCATION:Evangelische Stadtakademie München\, Herzog-Wilhelm-Straße 24\, 
 München\, 80331\, Deutschland
GEO:48.135242;11.566574
X-APPLE-STRUCTURED-LOCATION;VALUE=URI;X-ADDRESS=Herzog-Wilhelm-Straße 24\,
  München\, 80331\, Deutschland;X-APPLE-RADIUS=100;X-TITLE=Evangelische St
 adtakademie München:geo:48.135242,11.566574
END:VEVENT
BEGIN:VTIMEZONE
TZID:Europe/Berlin
X-LIC-LOCATION:Europe/Berlin
BEGIN:DAYLIGHT
DTSTART:20260329T030000
TZOFFSETFROM:+0100
TZOFFSETTO:+0200
TZNAME:CEST
END:DAYLIGHT
END:VTIMEZONE
END:VCALENDAR