BEGIN:VCALENDAR
VERSION:2.0
PRODID:-//wp-events-plugin.com//7.2.3.1//EN
TZID:Europe/Berlin
X-WR-TIMEZONE:Europe/Berlin
BEGIN:VEVENT
UID:11635@literaturseiten-muenchen.de
DTSTART;TZID=Europe/Berlin:20251028T193000
DTEND;TZID=Europe/Berlin:20251028T213000
DTSTAMP:20250829T072203Z
URL:https://www.literaturseiten-muenchen.de/veranstaltungen/mein-freund-de
 r-pinguin-annette-katharina-mueller-liest-kurzgeschichten-und-erzaehlungen
 /
SUMMARY:Mein Freund\, der Pinguin - Annette Katharina Müller liest Kurzges
 chichten und Erzählungen
DESCRIPTION:Eintritt frei\n\nAnnette Katharina Müller liest aus ihren Kurz
 geschichten und Erzählungen. Ihre Geschichten oszillieren zwischen den Be
 sonderheiten des Alltags und fantastischen Elementen. Einige Erzählungen 
 und eine Novelle erschienen in kleinen Buchausgaben und Anthologien.\n\nIn
 teraktion mit dem Publikum ist gewünscht: Durch Fragen\, Anregungen und K
 ritik kommt man miteinander ins Gespräch.\n\nModeriert wird der Abend von
  Dr. Stefan Frey.\n\nNach einer Buchhandelslehre und dem Studium des Bibli
 othekswesens arbeitete Annette Katharina Müller viele Jahre als Diplom-Bi
 bliothekarin bei der Münchner Stadtbibliothek. Sie war Leiterin der Stadt
 bibliothek Westend und der Stadtbibliothek Maxvorstadt. In den letzten Jah
 ren hat sie sich immer mehr dem Schreiben gewidmet.\n\nDr. Stefan Frey ist
  Theaterwissenschaftler\, Regisseur und Autor. Er arbeitet als Dozent an d
 er LMU und der Münchner Volkshochschule (Studium Generale) und moderiert 
 den Operetten-Boulevard auf BR-Klassik.\n\nAnmeldung persönlich vor Ort\,
  telefonisch unter 089 – 233 772 448 oder per Mail an stb.westend.kult@m
 uenchen.de
CATEGORIES:Lesung
LOCATION:Münchner Stadtbibliothek Westend\, Schießstättstr. 20 c\, Münc
 hen\, Bayern\, 80339\, Deutschland
GEO:48.136425;11.544886
X-APPLE-STRUCTURED-LOCATION;VALUE=URI;X-ADDRESS=Schießstättstr. 20 c\, M
 ünchen\, Bayern\, 80339\, Deutschland;X-APPLE-RADIUS=100;X-TITLE=Münchne
 r Stadtbibliothek Westend:geo:48.136425,11.544886
END:VEVENT
BEGIN:VTIMEZONE
TZID:Europe/Berlin
X-LIC-LOCATION:Europe/Berlin
BEGIN:STANDARD
DTSTART:20251026T020000
TZOFFSETFROM:+0200
TZOFFSETTO:+0100
TZNAME:CET
END:STANDARD
END:VTIMEZONE
END:VCALENDAR