BEGIN:VCALENDAR
VERSION:2.0
PRODID:-//wp-events-plugin.com//7.2.3.1//EN
TZID:Europe/Berlin
X-WR-TIMEZONE:Europe/Berlin
BEGIN:VEVENT
UID:11947@literaturseiten-muenchen.de
DTSTART;TZID=Europe/Berlin:20251030T200000
DTEND;TZID=Europe/Berlin:20251030T223000
DTSTAMP:20251016T102653Z
URL:https://www.literaturseiten-muenchen.de/veranstaltungen/meine-drei-lyr
 ischen-ichs-2/
SUMMARY:meine drei lyrischen ichs
DESCRIPTION:LYRIK: Hannah K Bründl (Wien)\, Miedya Mahmod (Ruhrgebiet)\, S
 ilke Scheffel (München)\nKUNST: Anina Stolz (München)\n\nZur dritten und
  letzten Ausgabe meine drei lyrischen ichs in diesem Jahr kommen noch einm
 al drei der spannendsten neuen Stimmen der Gegenwartslyrik in den Kunstver
 ein und treffen auf künstlerische Arbeiten\, die nur für diesen Abend hi
 er zu sehen sind.\n\nHannah K Bründl kommt aus Wien angereist und hat ihr
 en neuen Gedichtband schilfern im Gepäck (Ritter\, 2025). Sie ist Autorin
  von Lyrik\, szenischen Texten und Prosaformen\, und in ihren Büchern geh
 t es hochpoetisch zur Sache: So lotet ihr neues Buch „Formen des Spreche
 ns und Schreibens über Liebe in einer Zeit aus\, in der strukturelle\, ps
 ychische und körperliche Gewalt gegen Frauen und weiblich gelesene Person
 en zunimmt“.\n\nAus dem Ruhrgebiet ist Miedya Mahmod zu Gast. Mahmod bew
 egt sich zwischen Papier- und Bühnenlyrik\, umspielt und definiert deren 
 Grenzen neu. Auf und neben den Bühnen ist they zudem vielfältig für Lit
 eratur engagiert: u. a. mit ehrenamtlicher Kulturarbeit in den Bereichen S
 poken Word und poetische Bildung\, im Künstler*innenkollektiv parallelges
 ellschaft und im Aufruhrgebiet\, der ersten queerfeministisch besetzten Le
 sebühnenformation des Ruhrgebiets.\n\nDie Münchner Stimme des Abends ist
  Silke Scheffel. Sie ist Lyrikerin\, Essayistin und Logopädin. 2023 ersch
 ien ihr erster Lyrikband „bitte Umgebung!“ im Isar Ufer Verlag\, 2024 
 „und blühen im Garten nach innen“ in der grünen Reihe im SUKULTUR Ve
 rlag. Sie schreibt Texte mit „einer entwaffnenden Direktheit der Bilderw
 elten“ (Markus Orths).\n\nAls Bildende Künstlerin ist Anina Stolz dabei
 . Sie ist 1981 geboren und wurde Schmuckkünstlerin\, Kletterlehrerin\, Be
 wegungscoach und Kommunikationstrainerin. Sie verbindet das mit der Kunst\
 , die sie an der Akademie der Bildenden Künste München bei Jorinde Voigt
  und Julian Rosefeldt vor allem auf performativen Wegen suchte und untersu
 chte. Im Moment forscht sie über die Weite in der Nähe.\n\nEintritt: 7/5
 \nKuration und Moderation: Daniel Bayerstorfer\, Tristan Marquardt\, Annal
 ena Roters\, Nora Zapf\n\nMit freundlicher Unterstützung des Kulturrefera
 ts der LH München
CATEGORIES:Lesung
LOCATION:Kunstverein München\, Galeriestraße 4\, München\, Deutschland
GEO:48.143828;11.580009
X-APPLE-STRUCTURED-LOCATION;VALUE=URI;X-ADDRESS=Galeriestraße 4\, München
 \, Deutschland;X-APPLE-RADIUS=100;X-TITLE=Kunstverein München:geo:48.1438
 28,11.580009
END:VEVENT
BEGIN:VTIMEZONE
TZID:Europe/Berlin
X-LIC-LOCATION:Europe/Berlin
BEGIN:STANDARD
DTSTART:20251026T020000
TZOFFSETFROM:+0200
TZOFFSETTO:+0100
TZNAME:CET
END:STANDARD
END:VTIMEZONE
END:VCALENDAR