BEGIN:VCALENDAR
VERSION:2.0
PRODID:-//wp-events-plugin.com//7.2.3.1//EN
TZID:Europe/Berlin
X-WR-TIMEZONE:Europe/Berlin
BEGIN:VEVENT
UID:12400@literaturseiten-muenchen.de
DTSTART;TZID=Europe/Berlin:20260202T190000
DTEND;TZID=Europe/Berlin:20260202T190000
DTSTAMP:20260129T195413Z
URL:https://www.literaturseiten-muenchen.de/veranstaltungen/mike-johansen-
 wiederentdecktes-juwel-der-ukrainischen-avantgarde-lesung-und-gespraech/
SUMMARY:Mike Johansen – Wiederentdecktes Juwel der ukrainischen Avantgard
 e Lesung und Gespräch
DESCRIPTION:Begrüßung: Wolfgang Matz\n\nEs lesen und sprechen Christian R
 uzicska\, Johannes Queck\, Yaryna Tsymbal und Halyna Petrosanyak\n\nIn den
  1920er Jahren entwickelten sich Kunst und Literatur in der Ukraine frei u
 nd orientierten sich an modernen Strömungen Westeuropas. Im Mittelpunkt s
 tanden die Ästhetik der Avantgarde\, formale Experimente und die bewusste
  Abkehr von ideologischen Vorgaben. In dieser Zeit erschienen die ersten u
 krainischen Kriminalromane\, futuristischen Gedichte und literarischen Rep
 ortagen.\n\nZu den zentralen Vertretern dieser Bewegung zählt Mike Johans
 en (1895–1937)\, Übersetzer aus dem Deutschen und Englischen sowie leid
 enschaftlicher Filmkenner\, der spielerisch mit literarischen Formen exper
 imentierte. Zwei seiner Romane – Die Reise des gelehrten Doktor Leonard
 o und seiner zukünftigen Geliebten\, der schönen Alceste\, in die slobid
 ische Schweiz und Die Abenteuer von MacLayston\, Harry Rupert und anderen
  – erschienen 2023 und 2025 im Verlag Secession in der deutschen Übers
 etzung von Johannes Queck und wurden von der Kritik begeistert aufgenommen
 .\n\nVerleger Christian Ruzicska\, Übersetzer Johannes Queck\, Literaturw
 issenschaftlerin Yaryna Tsymbal\, die ihre Dissertation über Johansen ver
 fasst hat\, und Halyna Petrosanyak diskutieren sein Werk im Kontext der uk
 rainischen 1920er und 1930er Jahre. H.P.\n\nDer Eintritt zu der Veranstalt
 ung ist frei\, eine Anmeldung nicht erforderlich. Bitte haben Sie dafür V
 erständnis\, dass unser Platzangebot begrenzt ist. Daher werden eine Stun
 de vor Beginn der Veranstaltung am Haupteingang der Residenz\, Max-Joseph-
 Platz 3\, Platzkarten vergeben.
CATEGORIES:Gespräch / Diskussion,Lesung
LOCATION:Bayerische Akademie der Schönen Künste\, Max-Joseph-Platz 3\, M
 ünchen\, Bayern\, 80539\, Oberbayern\, Deutschland
GEO:48.14044;11.577539999999999
X-APPLE-STRUCTURED-LOCATION;VALUE=URI;X-ADDRESS=Max-Joseph-Platz 3\, Münch
 en\, Bayern\, 80539\, Oberbayern\, Deutschland;X-APPLE-RADIUS=100;X-TITLE=
 Bayerische Akademie der Schönen Künste:geo:48.14044,11.577539999999999
END:VEVENT
BEGIN:VTIMEZONE
TZID:Europe/Berlin
X-LIC-LOCATION:Europe/Berlin
BEGIN:STANDARD
DTSTART:20251026T020000
TZOFFSETFROM:+0200
TZOFFSETTO:+0100
TZNAME:CET
END:STANDARD
END:VTIMEZONE
END:VCALENDAR