BEGIN:VCALENDAR
VERSION:2.0
PRODID:-//wp-events-plugin.com//7.2.3.1//EN
TZID:Europe/Berlin
X-WR-TIMEZONE:Europe/Berlin
BEGIN:VEVENT
UID:12344@literaturseiten-muenchen.de
DTSTART;TZID=Europe/Berlin:20260226T190000
DTEND;TZID=Europe/Berlin:20260226T203000
DTSTAMP:20260121T124108Z
URL:https://www.literaturseiten-muenchen.de/veranstaltungen/misstrauensgem
 einschaften-ein-abend-mit-aladin-el-mafaalani/
SUMMARY:»Misstrauensgemeinschaften &amp\; Kinder – Minderheit ohne Schut
 z« Ein Abend mit Aladin El-Mafaalani
DESCRIPTION:Grußwort &amp\; Schirmherrschaft: Bürgermeisterin Verena Diet
 l\nModeration: Özlem Sarikaya\n\nUnsere Gesellschaft steht unter Druck: K
 risen\, soziale Ungleichheit und ein spürbarer Vertrauensverlust prägen 
 das Zusammenleben. In seinem Buch »Misstrauensgemeinschaften« (Kiepenheu
 er &amp\; Witsch) beschreibt der Soziologe und Migrationsexperte Aladin El
 -Mafaalani\, wie aus Kontrolllogiken\, Polarisierung und politischer Über
 forderung handlungsunfähige gesellschaftliche Misstrauensstrukturen entst
 ehen – mit Folgen für Demokratie\, Zusammenhalt und öffentliche Debatt
 en.\n\nParallel richtet »Kinder – Minderheit ohne Schutz« (Kiepenheuer
  &amp\; Witsch) den Blick auf eine zentrale\, oft übersehene Dimension di
 eser Entwicklung: das Aufwachsen junger Menschen in genau diesen Strukture
 n. El-Mafaalani zeigt\, wie frühe Erfahrungen von Ungleichheit\, institut
 ioneller Überforderung und fehlender Verlässlichkeit nicht nur individue
 lle Biografien prägen\, sondern langfristig Vertrauen in Staat\, Bildung 
 und Gesellschaft untergraben.\n\nDer Abend verbindet beide Analysen und fr
 agt\, wie eng gesellschaftlicher Vertrauensverlust und das Aufwachsen in p
 rekären Strukturen miteinander verknüpft sind – und welche politischen
  und sozialen Konsequenzen sich daraus ergeben.\n\nTickets erhältlich unt
 er ReserviX\nEINTRITT: EURO 16.- / 10.-\n\nVeranstalter: Stiftung Literatu
 rhaus // in Kooperation mit der Stiftung »Gesellschaft macht Schule«
CATEGORIES:Buchpräsentation,Gespräch / Diskussion,Lesung
LOCATION:Literaturhaus München\, Salvatorplatz 1\, München\, Bayern\, 803
 33\, Deutschland
GEO:48.142051;11.574991
X-APPLE-STRUCTURED-LOCATION;VALUE=URI;X-ADDRESS=Salvatorplatz 1\, München\
 , Bayern\, 80333\, Deutschland;X-APPLE-RADIUS=100;X-TITLE=Literaturhaus M
 ünchen:geo:48.142051,11.574991
END:VEVENT
BEGIN:VTIMEZONE
TZID:Europe/Berlin
X-LIC-LOCATION:Europe/Berlin
BEGIN:STANDARD
DTSTART:20251026T020000
TZOFFSETFROM:+0200
TZOFFSETTO:+0100
TZNAME:CET
END:STANDARD
END:VTIMEZONE
END:VCALENDAR