BEGIN:VCALENDAR
VERSION:2.0
PRODID:-//wp-events-plugin.com//7.2.3.1//EN
TZID:Europe/Berlin
X-WR-TIMEZONE:Europe/Berlin
BEGIN:VEVENT
UID:12705@literaturseiten-muenchen.de
DTSTART;TZID=Europe/Berlin:20260510T100000
DTEND;TZID=Europe/Berlin:20260510T180000
DTSTAMP:20260309T134527Z
URL:https://www.literaturseiten-muenchen.de/veranstaltungen/muenchen-liest
 -aus-verbrannten-buechern-2/
SUMMARY:München liest – aus verbrannten Büchern
DESCRIPTION:Kunstaktion – Brandspur ab 10 Uhr\nLesungen ab 11 Uhr\n\nWeit
 ere Infos: lesungausverbranntenbuechern.de\n\nVeranstalter: Institut für 
 Kunst und Forschung\, Wolfram P. Kastner\, und Dr. Franz Klug.\n\nWenn Sie
  interessiert sind vorlesen\, melden Sie sich bitte unter 0170-7731717. Si
 e können den Text aus der Liste selbst auswählen.\n\n
CATEGORIES:Lesung
LOCATION:Königsplatz\, Königsplatz\, München\, Bayern\, Deutschland
GEO:48.14578;11.565327
X-APPLE-STRUCTURED-LOCATION;VALUE=URI;X-ADDRESS=Königsplatz\, München\, B
 ayern\, Deutschland;X-APPLE-RADIUS=100;X-TITLE=Königsplatz:geo:48.14578,1
 1.565327
END:VEVENT
BEGIN:VTIMEZONE
TZID:Europe/Berlin
X-LIC-LOCATION:Europe/Berlin
BEGIN:DAYLIGHT
DTSTART:20260329T030000
TZOFFSETFROM:+0100
TZOFFSETTO:+0200
TZNAME:CEST
END:DAYLIGHT
END:VTIMEZONE
END:VCALENDAR