BEGIN:VCALENDAR
VERSION:2.0
PRODID:-//wp-events-plugin.com//7.2.3.1//EN
TZID:Europe/Berlin
X-WR-TIMEZONE:Europe/Berlin
BEGIN:VEVENT
UID:11712@literaturseiten-muenchen.de
DTSTART;TZID=Europe/Berlin:20251006T183000
DTEND;TZID=Europe/Berlin:20251006T213000
DTSTAMP:20250908T190128Z
URL:https://www.literaturseiten-muenchen.de/veranstaltungen/muenchen-muss-
 eine-herrliche-stadt-gewesen-sein/
SUMMARY:"München muss eine herrliche Stadt gewesen sein …“
DESCRIPTION:München\nmuss eine herrliche Stadt gewesen sein …\n(Max Fris
 ch\, 1947)\nDer Neubeginn literarischen Lebens in München\neine kommentie
 rte Lesung\n\nDer Zusammenbruch des NS-Gewaltregimes brachte den Münchner
 innen und Münchnern dramatische Veränderungen – nicht nur in politisch
 er Hinsicht\, sondern auch für das soziale\, wirtschaftliche und kulturel
 le Leben.\n\nDie Erfahrungen dieser Brüche\, Zäsuren und Transformations
 prozesse sind natürlich auch zum Gegenstand literarischer Auseinandersetz
 ung geworden. Autoren wie Alfred Andersch\, Wolfgang Koeppen\, Erich Käst
 ner oder Walter Kolbenhoff stehen für den literarischen Neubeginn in der 
 Stadt. Auch die legendäre Gruppe 47 hat hier ihre Wurzeln.\n\nDer Abend m
 it\nGabi Hinterstoisser (Lesung) und\nDr. Andreas Heusler (Kommentar) verm
 ittelt Einblicke in eine Literatur im Umbruch\, in der sich mehr als nur d
 er Alltag des demokratischen Neuanfangs spiegelt.\n\nMontag\, 06. Oktober 
 2025 - 18. 30 Uhr\nStadtbibliothek Schwabing\,\nHohenzollernstr.16 80801 M
 ünchen\nTel.089 233 77-2432
CATEGORIES:Lesung
LOCATION:Stadtbibliothek Schwabing\, Hohenzollernstraße 16\, München\, De
 utschland
GEO:48.159972;11.58371
X-APPLE-STRUCTURED-LOCATION;VALUE=URI;X-ADDRESS=Hohenzollernstraße 16\, M
 ünchen\, Deutschland;X-APPLE-RADIUS=100;X-TITLE=Stadtbibliothek Schwabing
 :geo:48.159972,11.58371
END:VEVENT
BEGIN:VTIMEZONE
TZID:Europe/Berlin
X-LIC-LOCATION:Europe/Berlin
BEGIN:DAYLIGHT
DTSTART:20250330T030000
TZOFFSETFROM:+0100
TZOFFSETTO:+0200
TZNAME:CEST
END:DAYLIGHT
END:VTIMEZONE
END:VCALENDAR