BEGIN:VCALENDAR
VERSION:2.0
PRODID:-//wp-events-plugin.com//7.2.3.1//EN
TZID:Europe/Berlin
X-WR-TIMEZONE:Europe/Berlin
BEGIN:VEVENT
UID:11570@literaturseiten-muenchen.de
DTSTART;TZID=Europe/Berlin:20251028T200000
DTEND;TZID=Europe/Berlin:20251028T200000
DTSTAMP:20250811T172421Z
URL:https://www.literaturseiten-muenchen.de/veranstaltungen/muenchen-previ
 ew-stiller-mit-anschliessendem-filmgespraech/
SUMMARY:München-Preview STILLER mit anschließendem Filmgespräch
DESCRIPTION:München-Preview des Films STILLER nach dem Literaturklassiker 
 von Max Frisch und anschließendes Filmgespräch mit Stefan Haupt (Regisse
 ur STILLER) und Timothy Sonderhüsken (Host des Buchpodcast RABABUMM und L
 iteraturvermittler)\n\nZUM FILM\n\nBei einer Zugreise durch die Schweiz wi
 rd der US-Amerikaner James Larkin White an der Grenze festgenommen. Der Vo
 rwurf: Er sei der vor sieben Jahren verschwundene Bildhauer Anatol Stiller
 \, der wegen seiner Verwicklung in eine dubiose politische Affäre gesucht
  wird. White bestreitet seine Schuld und beharrt darauf\, nicht Stiller zu
  sein. Um ihn zu überführen\, bittet die Staatsanwaltschaft Stillers Fra
 u Julika um Hilfe. Aber auch sie vermag ihn nicht eindeutig zu identifizie
 ren\, in Erinnerungen wird aber mehr und mehr die Beziehung des Ehepaars o
 ffengelegt. Auch der Staatsanwalt hat eine überraschende Verbindung zu de
 m Verschwundenen. Was ist damals genau passiert und wer ist Stiller wirkli
 ch?
CATEGORIES:Literatur &amp; Musik,Weitere Veranstaltungen
LOCATION:City Kinos\, Sonnenstraße 12a\, München\, 80331\, Deutschland
GEO:48.136967;11.564299
X-APPLE-STRUCTURED-LOCATION;VALUE=URI;X-ADDRESS=Sonnenstraße 12a\, Münche
 n\, 80331\, Deutschland;X-APPLE-RADIUS=100;X-TITLE=City Kinos:geo:48.13696
 7,11.564299
END:VEVENT
BEGIN:VTIMEZONE
TZID:Europe/Berlin
X-LIC-LOCATION:Europe/Berlin
BEGIN:STANDARD
DTSTART:20251026T020000
TZOFFSETFROM:+0200
TZOFFSETTO:+0100
TZNAME:CET
END:STANDARD
END:VTIMEZONE
END:VCALENDAR