BEGIN:VCALENDAR
VERSION:2.0
PRODID:-//wp-events-plugin.com//7.2.3.1//EN
TZID:Europe/Berlin
X-WR-TIMEZONE:Europe/Berlin
BEGIN:VEVENT
UID:12929@literaturseiten-muenchen.de
DTSTART;TZID=Europe/Berlin:20260620T121500
DTEND;TZID=Europe/Berlin:20260620T173000
DTSTAMP:20260415T122208Z
URL:https://www.literaturseiten-muenchen.de/veranstaltungen/muenchner-buch
 fest-2/
SUMMARY:Münchner Buchfest
DESCRIPTION:Idyllisch gelegen im Garten des Schleusenwärterhäuschens\, zw
 ischen Weinreben und Efeuranken\, nur wenige Schritte vom Isarufer entfern
 t\, präsentieren unabhängige Verlage aus Bayern ihre Buchschätze\, die 
 nicht in jeder Buchhandlung zu finden sind: Von Stadtgeschichte über Arch
 itektur\, Monacensia und Bavarica bis hin zu Belletristik\, Krimis\, Kinde
 rbüchern\, Kochbüchern und Kuriosem ist für jeden Geschmack etwas dabei
 . Eine wunderbare Gelegenheit\, die Vielfalt der Münchner Literaturszene 
 zu entdecken! Neben dem Bücherbummel erwartet die Gäste ein Rahmenprogra
 mm mit Lesungen von Münchner Autorinnen und Autoren sowie Live-Musik.\n\n
 Der Eintritt ist frei.
CATEGORIES:Buchpräsentation,Festival,Lesung
LOCATION:Garten des Schleusenwärterhäuschens\, Zentralländstraße 35\, M
 ünchen\, 81379\, Deutschland
GEO:48.092609;11.548096
X-APPLE-STRUCTURED-LOCATION;VALUE=URI;X-ADDRESS=Zentralländstraße 35\, M
 ünchen\, 81379\, Deutschland;X-APPLE-RADIUS=100;X-TITLE=Garten des Schleu
 senwärterhäuschens:geo:48.092609,11.548096
END:VEVENT
BEGIN:VTIMEZONE
TZID:Europe/Berlin
X-LIC-LOCATION:Europe/Berlin
BEGIN:DAYLIGHT
DTSTART:20260329T030000
TZOFFSETFROM:+0100
TZOFFSETTO:+0200
TZNAME:CEST
END:DAYLIGHT
END:VTIMEZONE
END:VCALENDAR