BEGIN:VCALENDAR
VERSION:2.0
PRODID:-//wp-events-plugin.com//7.2.3.1//EN
TZID:Europe/Berlin
X-WR-TIMEZONE:Europe/Berlin
BEGIN:VEVENT
UID:11960@literaturseiten-muenchen.de
DTSTART;TZID=Europe/Berlin;VALUE=DATE:20251201
DTEND;TZID=Europe/Berlin;VALUE=DATE:20251208
DTSTAMP:20251201T123333Z
URL:https://www.literaturseiten-muenchen.de/veranstaltungen/muenchner-buec
 herschau-2025/
SUMMARY:Münchner Bücherschau 2025
DESCRIPTION:Jedes Jahr im Herbst bietet die Münchner Bücherschau den Besu
 cher*innen Anregungen zu Ausflügen in die spannende und abwechslungsreich
 e Welt der Bücher. An 18 Tagen und Abenden präsentieren in der Buchausst
 ellung kleine und große Verlage über 10.000 Romane\, Kochbücher\, Reise
 literatur\, Kinder- und Jugendbücher\, Hörbücher\, Kunstbücher\, Sach-
  und Fachbücher aller Wissensgebiete und Kalender.\n\nAlle sind dazu eing
 eladen\, sich täglich von 8 bis 22 Uhr über Neuerscheinungen\, Best- und
  Longseller zu informieren\, ungestört in den umfangreichen Programmen de
 r Verlage zu schmökern. Der Eintritt ist frei.\n\nAn den Schultagen gibt 
 es für Schulklassen ein Lesungsprogramm vor Ort und digital\, Workshops f
 ür Schulklassen und Buchvorstellungen anderer Art.\n\nWeitere Infos: http
 s://www.muenchner-buecherschau.de/
CATEGORIES:Ausstellungen,Gespräch / Diskussion,Lesung
LOCATION:Haus der Kunst\, Prinzregentenstr. 1\, München\, Deutschland
GEO:48.145368;11.58586
X-APPLE-STRUCTURED-LOCATION;VALUE=URI;X-ADDRESS=Prinzregentenstr. 1\, Münc
 hen\, Deutschland;X-APPLE-RADIUS=100;X-TITLE=Haus der Kunst:geo:48.145368,
 11.58586
END:VEVENT
BEGIN:VTIMEZONE
TZID:Europe/Berlin
X-LIC-LOCATION:Europe/Berlin
BEGIN:STANDARD
DTSTART:20251026T020000
TZOFFSETFROM:+0200
TZOFFSETTO:+0100
TZNAME:CET
END:STANDARD
END:VTIMEZONE
END:VCALENDAR