BEGIN:VCALENDAR
VERSION:2.0
PRODID:-//wp-events-plugin.com//7.2.3.1//EN
TZID:Europe/Berlin
X-WR-TIMEZONE:Europe/Berlin
BEGIN:VEVENT
UID:11765@literaturseiten-muenchen.de
DTSTART;TZID=Europe/Berlin:20251031T193000
DTEND;TZID=Europe/Berlin:20251031T193000
DTSTAMP:20250911T141102Z
URL:https://www.literaturseiten-muenchen.de/veranstaltungen/muenchner-lite
 raturbuero-lesung-alexander-roth/
SUMMARY:Münchner Literaturbüro – Lesung Alexander Roth
DESCRIPTION:Alexander Roth liest die Kurzgeschichte „Transit“ und drei 
 Gedichte\, die sich\, ebenso wie die Kurzgeschichte\, um das Thema „das 
 Fremde und die Sprache“ drehen.\n\nEintritt frei.
CATEGORIES:Lesung
LOCATION:Münchner Literaturbüro\, Milchstr. 4\, München\, Bayern\, 81677
 \, Deutschland
GEO:48.130936;11.595149
X-APPLE-STRUCTURED-LOCATION;VALUE=URI;X-ADDRESS=Milchstr. 4\, München\, Ba
 yern\, 81677\, Deutschland;X-APPLE-RADIUS=100;X-TITLE=Münchner Literaturb
 üro:geo:48.130936,11.595149
END:VEVENT
BEGIN:VTIMEZONE
TZID:Europe/Berlin
X-LIC-LOCATION:Europe/Berlin
BEGIN:STANDARD
DTSTART:20251026T020000
TZOFFSETFROM:+0200
TZOFFSETTO:+0100
TZNAME:CET
END:STANDARD
END:VTIMEZONE
END:VCALENDAR