BEGIN:VCALENDAR
VERSION:2.0
PRODID:-//wp-events-plugin.com//7.2.3.1//EN
TZID:Europe/Berlin
X-WR-TIMEZONE:Europe/Berlin
BEGIN:VEVENT
UID:11565@literaturseiten-muenchen.de
DTSTART;TZID=Europe/Berlin:20250912T193000
DTEND;TZID=Europe/Berlin:20250912T193000
DTSTAMP:20250808T134805Z
URL:https://www.literaturseiten-muenchen.de/veranstaltungen/muenchner-lite
 raturbuero-lesung-christoph-von-nostitz/
SUMMARY:Münchner Literaturbüro – Lesung Christoph von Nostitz
DESCRIPTION:Christoph von Nostitz liest aus seinem Erzählband „Lügen\, 
 Täuschungen und andere Wahrheiten“ sowie aus seinem aktuellen Schreibpr
 ojekt „Erlösung“.\n\nEintritt frei.
CATEGORIES:Lesung
LOCATION:Münchner Literaturbüro\, Milchstr. 4\, München\, Bayern\, 81677
 \, Deutschland
GEO:48.130936;11.595149
X-APPLE-STRUCTURED-LOCATION;VALUE=URI;X-ADDRESS=Milchstr. 4\, München\, Ba
 yern\, 81677\, Deutschland;X-APPLE-RADIUS=100;X-TITLE=Münchner Literaturb
 üro:geo:48.130936,11.595149
END:VEVENT
BEGIN:VTIMEZONE
TZID:Europe/Berlin
X-LIC-LOCATION:Europe/Berlin
BEGIN:DAYLIGHT
DTSTART:20250330T030000
TZOFFSETFROM:+0100
TZOFFSETTO:+0200
TZNAME:CEST
END:DAYLIGHT
END:VTIMEZONE
END:VCALENDAR