BEGIN:VCALENDAR
VERSION:2.0
PRODID:-//wp-events-plugin.com//7.2.3.1//EN
TZID:Europe/Berlin
X-WR-TIMEZONE:Europe/Berlin
BEGIN:VEVENT
UID:12134@literaturseiten-muenchen.de
DTSTART;TZID=Europe/Berlin:20251219T193000
DTEND;TZID=Europe/Berlin:20251219T193000
DTSTAMP:20251116T110427Z
URL:https://www.literaturseiten-muenchen.de/veranstaltungen/muenchner-lite
 raturbuero-lesung-helga-loddeke/
SUMMARY:Münchner Literaturbüro – Lesung Helga Loddeke
DESCRIPTION:Helga Loddeke liest die Kurzgeschichte „Ein echter Mann trink
 t nicht“\; ausgerechnet an diesem Spruch der Münchner Barlegende Charle
 s Schumann hangelt sich die Protagonistin Hanna co-abhängig durch ihr Leb
 en. Weiterhin liest die Autorin aus ihren Gedichtbänden Zeitenwende und E
 insicht sowie unveröffentlichte Gedichte.\n\nEintritt frei.
CATEGORIES:Lesung
LOCATION:Münchner Literaturbüro\, Milchstr. 4\, München\, Bayern\, 81677
 \, Deutschland
GEO:48.130936;11.595149
X-APPLE-STRUCTURED-LOCATION;VALUE=URI;X-ADDRESS=Milchstr. 4\, München\, Ba
 yern\, 81677\, Deutschland;X-APPLE-RADIUS=100;X-TITLE=Münchner Literaturb
 üro:geo:48.130936,11.595149
END:VEVENT
BEGIN:VTIMEZONE
TZID:Europe/Berlin
X-LIC-LOCATION:Europe/Berlin
BEGIN:STANDARD
DTSTART:20251026T020000
TZOFFSETFROM:+0200
TZOFFSETTO:+0100
TZNAME:CET
END:STANDARD
END:VTIMEZONE
END:VCALENDAR