BEGIN:VCALENDAR
VERSION:2.0
PRODID:-//wp-events-plugin.com//7.2.3.1//EN
TZID:Europe/Berlin
X-WR-TIMEZONE:Europe/Berlin
BEGIN:VEVENT
UID:12135@literaturseiten-muenchen.de
DTSTART;TZID=Europe/Berlin:20251226T193000
DTEND;TZID=Europe/Berlin:20251226T193000
DTSTAMP:20251116T110607Z
URL:https://www.literaturseiten-muenchen.de/veranstaltungen/muenchner-lite
 raturbuero-lesung-ulrich-braun/
SUMMARY:Münchner Literaturbüro – Lesung Ulrich Braun
DESCRIPTION:Zu Weihnachten verzaubert sich die Welt\, jedenfalls für die K
 inder. Als Sehnsucht erhält sich dieser Zauber ein Leben lang. So ergeht 
 es Günter\, dem Protagonisten des Romans „Abschied\, immerzu Abschied
 “. Als Fünfjähriger erlebt er die Weihnachtstage 1936 in seiner ostpre
 ußischen Geburtsstadt Lötzen\, wo die Schatten\, welche die Zeitläufte 
 bereits auf das Land legen\, von den Lichtern der Weihnachtsstube noch ein
 mal überstrahlt werden\n\nEintritt frei.
CATEGORIES:Lesung
LOCATION:Münchner Literaturbüro\, Milchstr. 4\, München\, Bayern\, 81677
 \, Deutschland
GEO:48.130936;11.595149
X-APPLE-STRUCTURED-LOCATION;VALUE=URI;X-ADDRESS=Milchstr. 4\, München\, Ba
 yern\, 81677\, Deutschland;X-APPLE-RADIUS=100;X-TITLE=Münchner Literaturb
 üro:geo:48.130936,11.595149
END:VEVENT
BEGIN:VTIMEZONE
TZID:Europe/Berlin
X-LIC-LOCATION:Europe/Berlin
BEGIN:STANDARD
DTSTART:20251026T020000
TZOFFSETFROM:+0200
TZOFFSETTO:+0100
TZNAME:CET
END:STANDARD
END:VTIMEZONE
END:VCALENDAR