BEGIN:VCALENDAR
VERSION:2.0
PRODID:-//wp-events-plugin.com//7.2.3.1//EN
TZID:Europe/Berlin
X-WR-TIMEZONE:Europe/Berlin
BEGIN:VEVENT
UID:11564@literaturseiten-muenchen.de
DTSTART;TZID=Europe/Berlin:20250905T193000
DTEND;TZID=Europe/Berlin:20250905T193000
DTSTAMP:20250808T134730Z
URL:https://www.literaturseiten-muenchen.de/veranstaltungen/muenchner-lite
 raturbuero-offener-abend-6/
SUMMARY:Münchner Literaturbüro – Offener Abend
DESCRIPTION:Zehnte Lesung für die Qualifizierung zum 32. Haidhauser Werkst
 attpreis. Autor*innen können Prosa- oder Lyriktexte mit einer Länge von 
 max. 10 Minuten vortragen. Das Publikum diskutiert über Stärken und Schw
 ächen der Texte und wählt anschließend eine*n Tagessieger*in für die T
 eilnahme am Finale\, das am 11. Oktober 2025 stattfindet. Wir freuen uns a
 uf neue und bekannte Autor*innen! Kommen Sie einfach ohne Voranmeldung mit
  Ihrem Text vorbei und melden sich an der Bar. Eintritt frei.
CATEGORIES:Lesung
LOCATION:Münchner Literaturbüro\, Milchstr. 4\, München\, Bayern\, 81677
 \, Deutschland
GEO:48.130936;11.595149
X-APPLE-STRUCTURED-LOCATION;VALUE=URI;X-ADDRESS=Milchstr. 4\, München\, Ba
 yern\, 81677\, Deutschland;X-APPLE-RADIUS=100;X-TITLE=Münchner Literaturb
 üro:geo:48.130936,11.595149
END:VEVENT
BEGIN:VTIMEZONE
TZID:Europe/Berlin
X-LIC-LOCATION:Europe/Berlin
BEGIN:DAYLIGHT
DTSTART:20250330T030000
TZOFFSETFROM:+0100
TZOFFSETTO:+0200
TZNAME:CEST
END:DAYLIGHT
END:VTIMEZONE
END:VCALENDAR