BEGIN:VCALENDAR
VERSION:2.0
PRODID:-//wp-events-plugin.com//7.2.3.1//EN
TZID:Europe/Berlin
X-WR-TIMEZONE:Europe/Berlin
BEGIN:VEVENT
UID:11726@literaturseiten-muenchen.de
DTSTART;TZID=Europe/Berlin:20251013T160000
DTEND;TZID=Europe/Berlin:20251013T160000
DTSTAMP:20250909T085334Z
URL:https://www.literaturseiten-muenchen.de/veranstaltungen/nibbels-das-bu
 echermonster/
SUMMARY:Nibbels – das Büchermonster
DESCRIPTION:Zweisprachiges Bilderbuchkino in Deutscher Gebärdensprache und
  gesprochener Sprache\nEintritt frei\nHeute seht ihr das Bilderbuch "Nibbe
 ls – das Büchermonster"\, geschrieben und illustriert von Emma Yarlett\
 , auf der großen Leinwand. Und ihr erlebt\, wie Vorlesen in Gebärdenspra
 che funktioniert. Macht mit und erfahrt\, wie bunt und faszinierend Sprach
 e sein kann!\n\nDie Veranstaltung richtet sich an alle Kinder ab vier Jahr
 en\, mit oder ohne Höreinschränkung.\n\nInformationen zur Anmeldung\n\n\
 nOhne Anmeldung\n\n\n\n\nKooperationspartner\n\n\nDer Gehörlosenverband M
 ünchen und Umland e.V. (GMU)\n\n\n
CATEGORIES:Lesung
LOCATION:Münchner Stadtbibliothek Neuhausen\, Nymphenburger Straße 171b\,
  München\, 80634\, Deutschland
GEO:48.155326;11.531989
X-APPLE-STRUCTURED-LOCATION;VALUE=URI;X-ADDRESS=Nymphenburger Straße 171b\
 , München\, 80634\, Deutschland;X-APPLE-RADIUS=100;X-TITLE=Münchner Stad
 tbibliothek Neuhausen:geo:48.155326,11.531989
END:VEVENT
BEGIN:VTIMEZONE
TZID:Europe/Berlin
X-LIC-LOCATION:Europe/Berlin
BEGIN:DAYLIGHT
DTSTART:20250330T030000
TZOFFSETFROM:+0100
TZOFFSETTO:+0200
TZNAME:CEST
END:DAYLIGHT
END:VTIMEZONE
END:VCALENDAR