BEGIN:VCALENDAR
VERSION:2.0
PRODID:-//wp-events-plugin.com//7.2.3.1//EN
TZID:Europe/Berlin
X-WR-TIMEZONE:Europe/Berlin
BEGIN:VEVENT
UID:12695@literaturseiten-muenchen.de
DTSTART;TZID=Europe/Berlin:20260415T190000
DTEND;TZID=Europe/Berlin:20260415T210000
DTSTAMP:20260305T202835Z
URL:https://www.literaturseiten-muenchen.de/veranstaltungen/nicht-einmal-s
 ie-werden-sich-an-mich-erinnern/
SUMMARY:„Sie werden sich oft an mich erinnern ...“
DESCRIPTION:Eine poetisch-musikalische Veranstaltung\, gewidmet dem 140. Ge
 burtstag des Dichters Nikolaj Gumiljow (1886 – 1921)
CATEGORIES:Literatur &amp; Musik
LOCATION:EineWeltHaus\, Schwanthalerstr. 80\, München\, 80336\, Deutschlan
 d
GEO:48.13769;11.55287
X-APPLE-STRUCTURED-LOCATION;VALUE=URI;X-ADDRESS=Schwanthalerstr. 80\, Münc
 hen\, 80336\, Deutschland;X-APPLE-RADIUS=100;X-TITLE=EineWeltHaus:geo:48.1
 3769,11.55287
END:VEVENT
BEGIN:VTIMEZONE
TZID:Europe/Berlin
X-LIC-LOCATION:Europe/Berlin
BEGIN:DAYLIGHT
DTSTART:20260329T030000
TZOFFSETFROM:+0100
TZOFFSETTO:+0200
TZNAME:CEST
END:DAYLIGHT
END:VTIMEZONE
END:VCALENDAR