BEGIN:VCALENDAR
VERSION:2.0
PRODID:-//wp-events-plugin.com//7.2.3.1//EN
TZID:Europe/Berlin
X-WR-TIMEZONE:Europe/Berlin
BEGIN:VEVENT
UID:12963@literaturseiten-muenchen.de
DTSTART;TZID=Europe/Berlin:20260519T190000
DTEND;TZID=Europe/Berlin:20260519T190000
DTSTAMP:20260416T125803Z
URL:https://www.literaturseiten-muenchen.de/veranstaltungen/nora-eugenie-g
 omringer-begruesst-neue-villa-concordia-stipendiaten-im-kuenstlerhaus-in-b
 amberg/
SUMMARY:Nora-Eugenie Gomringer begrüßt neue Villa Concordia-Stipendiaten 
 im Künstlerhaus in Bamberg
DESCRIPTION:Das neue Gastland\, aus dem rund die Hälfte der neuen Stipendi
 aten kommen\, die für 5 oder 11 Monate seit April 2026 in den Bereichen K
 unst\, Literatur und Musik im Internationalen Künstlerhaus Villa Concordi
 a arbeiten werden\, heißt TSCHECHIEN!\n\nDies hatte ein Kuratorium zuvor 
 dem bayerischen Kunstminister vorgeschlagen. Die Namen der neuen Gäste wu
 rden durch eine Pressemitteilung des Ministeriums bekannt gegeben: stmwk.b
 ayern.de/pressemitteilung/nr-21.\n\nHerzliche Einladung zu ihrer Begrüßu
 ng am 19. Mai 2026 um 19 Uhr! Es moderiert Künstlerhausdirektorin Nora-Eu
 genie Gomringer. Der neu gewählte Oberbürgermeister der Stadt Bamberg\, 
 Sebastian Niedermaier\, hat sein Kommen zugesagt. Der Eintritt ist frei.
CATEGORIES:Gespräch / Diskussion
LOCATION:Internationales Künstlerhaus Villa Concordia\, Concordiastraße 2
 8\, Bamberg\, Bayern\, 96049\, Deutschland
GEO:49.88815;10.888580000000047
X-APPLE-STRUCTURED-LOCATION;VALUE=URI;X-ADDRESS=Concordiastraße 28\, Bambe
 rg\, Bayern\, 96049\, Deutschland;X-APPLE-RADIUS=100;X-TITLE=International
 es Künstlerhaus Villa Concordia:geo:49.88815,10.888580000000047
END:VEVENT
BEGIN:VTIMEZONE
TZID:Europe/Berlin
X-LIC-LOCATION:Europe/Berlin
BEGIN:DAYLIGHT
DTSTART:20260329T030000
TZOFFSETFROM:+0100
TZOFFSETTO:+0200
TZNAME:CEST
END:DAYLIGHT
END:VTIMEZONE
END:VCALENDAR