BEGIN:VCALENDAR
VERSION:2.0
PRODID:-//wp-events-plugin.com//7.2.3.1//EN
TZID:Europe/Berlin
X-WR-TIMEZONE:Europe/Berlin
BEGIN:VEVENT
UID:12347@literaturseiten-muenchen.de
DTSTART;TZID=Europe/Berlin:20260212T190000
DTEND;TZID=Europe/Berlin:20260212T210000
DTSTAMP:20260110T200149Z
URL:https://www.literaturseiten-muenchen.de/veranstaltungen/offener-abend-
 februar-monatstreffen-des-fda-lv-bayern/
SUMMARY:Offener Abend Februar Monatstreffen des FDA LV Bayern\,
DESCRIPTION:Am Donnerstag den 12. Februar treffen wir uns wie gewohnt um 19
  Uhr in der Seidl Villa zu einem offenen Abend\, um Texte zu lesen und zu 
 besprechen. Gäste sind wie stets willkommen.
CATEGORIES:Gespräch / Diskussion,Lesekreis
LOCATION:Seidl Villa\, Nicolaiplatz\, München\, 80802\, Deutschland
GEO:48.158646;11.586788
X-APPLE-STRUCTURED-LOCATION;VALUE=URI;X-ADDRESS=Nicolaiplatz\, München\, 8
 0802\, Deutschland;X-APPLE-RADIUS=100;X-TITLE=Seidl Villa:geo:48.158646,11
 .586788
END:VEVENT
BEGIN:VTIMEZONE
TZID:Europe/Berlin
X-LIC-LOCATION:Europe/Berlin
BEGIN:STANDARD
DTSTART:20251026T020000
TZOFFSETFROM:+0200
TZOFFSETTO:+0100
TZNAME:CET
END:STANDARD
END:VTIMEZONE
END:VCALENDAR