BEGIN:VCALENDAR
VERSION:2.0
PRODID:-//wp-events-plugin.com//7.2.3.1//EN
TZID:Europe/Berlin
X-WR-TIMEZONE:Europe/Berlin
BEGIN:VEVENT
UID:12696@literaturseiten-muenchen.de
DTSTART;TZID=Europe/Berlin:20260409T190000
DTEND;TZID=Europe/Berlin:20260409T210000
DTSTAMP:20260309T134632Z
URL:https://www.literaturseiten-muenchen.de/veranstaltungen/offener-abend-
 monatstreffen-april-des-fda-lv-bayern/
SUMMARY:Offener Abend Monatstreffen April des FDA LV Bayern
DESCRIPTION:Am Donnerstag den 9. April trifft sich der Verein Freier Deutsc
 her Autorinnen und Autoren LV Bayern wie gewohnt um 19 Uhr in der Seidl Vi
 lla im Raum Gorbach zu einem offenen Abend\, um Texte zu lesen und zu besp
 rechen. Gäste sind wie stets willkommen.
CATEGORIES:Gespräch / Diskussion,Lesekreis
LOCATION:Seidl Villa\, Nicolaiplatz\, München\, 80802\, Deutschland
GEO:48.158646;11.586788
X-APPLE-STRUCTURED-LOCATION;VALUE=URI;X-ADDRESS=Nicolaiplatz\, München\, 8
 0802\, Deutschland;X-APPLE-RADIUS=100;X-TITLE=Seidl Villa:geo:48.158646,11
 .586788
END:VEVENT
BEGIN:VTIMEZONE
TZID:Europe/Berlin
X-LIC-LOCATION:Europe/Berlin
BEGIN:DAYLIGHT
DTSTART:20260329T030000
TZOFFSETFROM:+0100
TZOFFSETTO:+0200
TZNAME:CEST
END:DAYLIGHT
END:VTIMEZONE
END:VCALENDAR