BEGIN:VCALENDAR
VERSION:2.0
PRODID:-//wp-events-plugin.com//7.2.3.1//EN
TZID:Europe/Berlin
X-WR-TIMEZONE:Europe/Berlin
BEGIN:VEVENT
UID:12204@literaturseiten-muenchen.de
DTSTART;TZID=Europe/Berlin:20260205T190000
DTEND;TZID=Europe/Berlin:20260205T203000
DTSTAMP:20251203T152028Z
URL:https://www.literaturseiten-muenchen.de/veranstaltungen/oliver-nachtwe
 y-zerstoerungslust-warum-der-selbstgewaehlte-faschismus-so-viel-zuspruch-e
 rfaehrt/
SUMMARY:Oliver Nachtwey: Zerstörungslust. Warum der selbstgewählte Faschi
 smus so viel Zuspruch erfährt
DESCRIPTION:Woher diese Lust an der Zerstörung? Und warum folgen so Viele 
 den libertären Autoritären in den selbstgewählten Faschismus? Auf der G
 rundlage umfangreicher empirischer Forschungen entwickeln Carolin Amlinger
  und Oliver Nachtwey in ihrem jüngsten Buch eine Erklärung: Im Kern rich
 tet sich diese Revolte gegen die Blockade liberaler Gesellschaften\, die i
 hre Versprechen auf Aufstieg und Emanzipation nicht mehr einlösen. In die
 sem Sinne geht es Trump\, Musk\, Weidel und ihren Anhänger*innen um die Z
 erstörung der Welt als letzten\, verzweifelten Versuch\, sich davor zu re
 tten\, von ihr zermalmt zu werden.\n\nProf. Dr. Oliver Nachtwey\nhat den L
 ehrstuhl für Sozialstrukturanalyse am Fachbereich Soziologie der Universi
 tät Basel inne. Für sein Buch "Die Abstiegsgesellschaft" wurde er 2017 m
 it dem Hans-Matthöfer-Preis für Wirtschaftspublizistik ausgezeichnet.\n\
 nWir bitten um Anmeldung zu dieser Online-Veranstaltung unter:\nhttps://ww
 w.stadtakademie-muenchen.de/veranstaltung/zerstoerungslust/
CATEGORIES:Buchpräsentation,Gespräch /
 Diskussion,Online-Veranstaltung,Vortrag
END:VEVENT
BEGIN:VTIMEZONE
TZID:Europe/Berlin
X-LIC-LOCATION:Europe/Berlin
BEGIN:STANDARD
DTSTART:20251026T020000
TZOFFSETFROM:+0200
TZOFFSETTO:+0100
TZNAME:CET
END:STANDARD
END:VTIMEZONE
END:VCALENDAR