BEGIN:VCALENDAR
VERSION:2.0
PRODID:-//wp-events-plugin.com//7.2.3.1//EN
TZID:Europe/Berlin
X-WR-TIMEZONE:Europe/Berlin
BEGIN:VEVENT
UID:12184@literaturseiten-muenchen.de
DTSTART;TZID=Europe/Berlin:20260129T190000
DTEND;TZID=Europe/Berlin:20260129T190000
DTSTAMP:20251128T145712Z
URL:https://www.literaturseiten-muenchen.de/veranstaltungen/oliver-wnuk-kr
 iegundfreitag-besser-wirds-nicht/
SUMMARY:Oliver Wnuk & kriegundfreitag: Besser wird’s nicht
DESCRIPTION:die autobiographisch eingetunkte Leseshow mit den Cartoons\nBUC
 HPREMIERE\n\nZwei Künstler. Ein Buch. Unzählige Fragen an das Leben und 
 ein Abend voller pointierter Beobachtungen\, feiner Widersprüche und warm
 herzigem Humor.\n\nSchauspieler und Autor Oliver Wnuk liest aus seinem neu
 en Buch „Besser wird’s nicht“ (Lappan Verlag\, Febr. 2026)\, begleit
 et von den legendären Strichfiguren des Cartoonisten kriegundfreitag. Gem
 einsam schaffen sie eine Bühne für das\, was zwischen Alltag und Abgrund
 \, Ich und Ego\, Glückssuche und Selbstironie liegt.\nIn einer multimedia
 len Leseshow treffen persönliche Texte auf projizierte Cartoons – live\
 , klug\, komisch\, kantig.\nEin Abend für alle\, die keine Lösungen erwa
 rten\, aber Lust auf neue Perspektiven haben.\n\nSzenische Lesung\nEintrit
 t: 30\,-€\nErmäßigt: 25\,-€\n\nKarten für die Veranstaltungen der P
 asinger Fabrik sind an der Kasse der Pasinger Fabrik\, bei allen an Münch
 enTicket angeschlossenen Vorverkaufsstellen\, sowie als Print-at-home-Tick
 ets erhältlich.
CATEGORIES:Buchpräsentation,Lesung
LOCATION:Pasinger Fabrik - Wagenhalle\, August-Exter-Str. 1\, München\, 81
 245\, Deutschland
GEO:48.151105;11.461226
X-APPLE-STRUCTURED-LOCATION;VALUE=URI;X-ADDRESS=August-Exter-Str. 1\, Münc
 hen\, 81245\, Deutschland;X-APPLE-RADIUS=100;X-TITLE=Pasinger Fabrik - Wag
 enhalle:geo:48.151105,11.461226
END:VEVENT
BEGIN:VTIMEZONE
TZID:Europe/Berlin
X-LIC-LOCATION:Europe/Berlin
BEGIN:STANDARD
DTSTART:20251026T020000
TZOFFSETFROM:+0200
TZOFFSETTO:+0100
TZNAME:CET
END:STANDARD
END:VTIMEZONE
END:VCALENDAR