BEGIN:VCALENDAR
VERSION:2.0
PRODID:-//wp-events-plugin.com//7.2.3.1//EN
TZID:Europe/Berlin
X-WR-TIMEZONE:Europe/Berlin
BEGIN:VEVENT
UID:11490@literaturseiten-muenchen.de
DTSTART;TZID=Europe/Berlin:20250916T190000
DTEND;TZID=Europe/Berlin:20250916T203000
DTSTAMP:20250807T132020Z
URL:https://www.literaturseiten-muenchen.de/veranstaltungen/onigiri-ein-ab
 end-mit-yuko-kuhn/
SUMMARY:»Onigiri« Ein Abend mit Yuko Kuhn
DESCRIPTION:BUCHPRÄMIERE MIT YUKO KUHN\nModeration: Doris Dörrie\nLive-Mu
 sik: Nami Kamata »Coconami«\n\nAls Aki erfährt\, dass ihre Großmutter 
 gestorben ist\, reist sie zusammen mit ihrer Mutter Keiko nach Japan – e
 in Risiko\, denn Keiko ist dement. Doch als sie zusammen mit der Familie b
 eim Essen im alten Elternhaus sitzen\, scheint die sonst so stille Frau M
 üdigkeit und Vergessen abgelegt zu haben. Und plötzlich erkennt Aki in i
 hrer Mutter die mutige und lebenshungrige Frau\, die sie einmal war. Mit s
 anfter Klarheit lässt die Münchner Autorin Yuko Kuhn die faszinierende G
 eschichte einer deutschjapanischen Familie entstehen\, die zwischen den Ku
 lturen verloren geht und sich neu findet (Hanser Berlin). Ihr Roman ist d 
 a s literarische Debüt dieses Herbstes\, »herzzerreißend wunderbar und 
 zum Heulen schön.« (Doris Dörrie)\n\nKarten erhältlich unter Reservix
  \nEINTRITT: EURO 16.- / 10.- //\nSTREAM-TICKETS EURO 8.-\n\nVeranstalter
 : Stiftung Literaturhaus
CATEGORIES:Buchpräsentation,Gespräch / Diskussion,Lesung
LOCATION:Literaturhaus München\, Salvatorplatz 1\, München\, Bayern\, 803
 33\, Deutschland
GEO:48.142051;11.574991
X-APPLE-STRUCTURED-LOCATION;VALUE=URI;X-ADDRESS=Salvatorplatz 1\, München\
 , Bayern\, 80333\, Deutschland;X-APPLE-RADIUS=100;X-TITLE=Literaturhaus M
 ünchen:geo:48.142051,11.574991
END:VEVENT
BEGIN:VTIMEZONE
TZID:Europe/Berlin
X-LIC-LOCATION:Europe/Berlin
BEGIN:DAYLIGHT
DTSTART:20250330T030000
TZOFFSETFROM:+0100
TZOFFSETTO:+0200
TZNAME:CEST
END:DAYLIGHT
END:VTIMEZONE
END:VCALENDAR