BEGIN:VCALENDAR
VERSION:2.0
PRODID:-//wp-events-plugin.com//7.2.3.1//EN
TZID:Europe/Berlin
X-WR-TIMEZONE:Europe/Berlin
BEGIN:VEVENT
UID:12177@literaturseiten-muenchen.de
DTSTART;TZID=Europe/Berlin:20251127T190000
DTEND;TZID=Europe/Berlin:20251127T200000
DTSTAMP:20251122T130639Z
URL:https://www.literaturseiten-muenchen.de/veranstaltungen/online-lesung-
 der-moerderischen-schwestern-kriminacht-mit-anna-maria-aurel-marie-bastide
 -maike-braun-sigrun-dahmer-und-naja-a-serpentes/
SUMMARY:Online Lesung der Mörderischen Schwestern: Kriminacht mit Anna-Mar
 ia Aurel\, Marie Bastide\, Maike Braun\, Sigrun Dahmer und Naja A. Serpent
 es
DESCRIPTION:Krimivergnügen daheim auf den Sofa? Und trotzdem live? Na – 
 wie klingt das? Super\, oder? Alles\, was Ihr braucht\, ist der Link zum Y
 outube-Kanal der Mörderischen Schwestern:\n\nhttps://www.moerderische-sch
 western.eu/aktuelles-featured/die-moerderischen-schwestern-gehen-on-air/\n
 \nUnd schon seid Ihr dabei bei der ersten Online-Kriminacht der Mörderisc
 hen Schwestern.\n5 Autorinnen lesen aus ihren neuesten Thrillern\, und zwa
 r bis zum Schuss!\n\nAlle Infos findet ihr auf der Webseite der Mörderisc
 hen Schwestern (www.moerderische-schwestern.eu). Die Mörderischen Schwest
 ern sind mit rund 800 Mitgliedern die größte deutschsprachige Vereinigun
 g von Krimifreundinnen (Autorinnen\, Verlegerinnen\, Buchhändlerinnen\, B
 logerinnen\, Leserinnen).\n\nAlso: Kanal Abonnieren\, Lieblingsgetränk un
 d Snacks bereitstellen – und LOS GEHT’S!\n\nAm Donnerstag\, 27.11.2025
  um 19 Uhr.
CATEGORIES:Lesung
LOCATION:\, \, 
GEO:0.000000;0.000000
X-APPLE-STRUCTURED-LOCATION;VALUE=URI;X-ADDRESS=\, ;X-APPLE-RADIUS=100;X-TI
 TLE=:geo:0.000000,0.000000
END:VEVENT
BEGIN:VTIMEZONE
TZID:Europe/Berlin
X-LIC-LOCATION:Europe/Berlin
BEGIN:STANDARD
DTSTART:20251026T020000
TZOFFSETFROM:+0200
TZOFFSETTO:+0100
TZNAME:CET
END:STANDARD
END:VTIMEZONE
END:VCALENDAR