BEGIN:VCALENDAR
VERSION:2.0
PRODID:-//wp-events-plugin.com//7.2.3.1//EN
TZID:Europe/Berlin
X-WR-TIMEZONE:Europe/Berlin
BEGIN:VEVENT
UID:12648@literaturseiten-muenchen.de
DTSTART;TZID=Europe/Berlin:20260425T120000
DTEND;TZID=Europe/Berlin:20260425T160000
DTSTAMP:20260303T125110Z
URL:https://www.literaturseiten-muenchen.de/veranstaltungen/open-house-der
 -freien-szene/
SUMMARY:Open House der Freien Szene
DESCRIPTION:Was macht die Freie Szene der Literatur in München? Was besch
 äftigt die Menschen\, die sich in so vielen Schreibwerkstätten\, Bücher
 clubs\, Lesereihen und Literaturzeitschriften engagieren? Wie funktioniert
  Literatur\, die sich jenseits von Profit und abseits vom Mainstream stell
 t? Beim Open House der Freien Szene im Bildungszentrum Einstein 28 treffen
  ganz unterschiedliche Projekte und literarische Temperamente aufeinander 
 und bilden so eine große Bandbreite der Literatur in München ab. Lernen 
 Sie die Menschen hinter Initiativen\, Büchern\, Magazinen und Texten kenn
 en und erfahren Sie\, was die Literatur in der Stadt umtreibt.\n\nKursnumm
 er: W240035\n\nGebührenfrei\n\nWeitere Informationen finden Sie unter: h
 ttps://www.mvhs.de/kurse/kultur-kunst-kreativitaet/literatur/muenchner-sch
 iene/open-house-der-freien-szene-460-C-W240035
CATEGORIES:Weitere Veranstaltungen
LOCATION:MVHS Bildungszentrum Einstein 28\, Einsteinstraße 28\, München\,
  Deutschland
GEO:48.13534;11.599739999999997
X-APPLE-STRUCTURED-LOCATION;VALUE=URI;X-ADDRESS=Einsteinstraße 28\, Münch
 en\, Deutschland;X-APPLE-RADIUS=100;X-TITLE=MVHS Bildungszentrum Einstein 
 28:geo:48.13534,11.599739999999997
END:VEVENT
BEGIN:VTIMEZONE
TZID:Europe/Berlin
X-LIC-LOCATION:Europe/Berlin
BEGIN:DAYLIGHT
DTSTART:20260329T030000
TZOFFSETFROM:+0100
TZOFFSETTO:+0200
TZNAME:CEST
END:DAYLIGHT
END:VTIMEZONE
END:VCALENDAR