BEGIN:VCALENDAR
VERSION:2.0
PRODID:-//wp-events-plugin.com//7.2.3.1//EN
TZID:Europe/Berlin
X-WR-TIMEZONE:Europe/Berlin
BEGIN:VEVENT
UID:12693@literaturseiten-muenchen.de
DTSTART;TZID=Europe/Berlin:20260423T190000
DTEND;TZID=Europe/Berlin:20260423T203000
DTSTAMP:20260304T144740Z
URL:https://www.literaturseiten-muenchen.de/veranstaltungen/peter-probst-b
 uchpraesentation/
SUMMARY:Peter Probst - Buchpräsentation
DESCRIPTION:Zum Welttag des Buches stellt Peter seinen Kriminalroman „Am 
 helllichten Tag“ vor und wird daraus lesen.
CATEGORIES:Lesung
LOCATION:glatteis Die Kriminalbuchhandlung\, Corneliusstraße 31\, München
 \, Bayern\, 80469\, Deutschland
GEO:48.130529;11.578119
X-APPLE-STRUCTURED-LOCATION;VALUE=URI;X-ADDRESS=Corneliusstraße 31\, Münc
 hen\, Bayern\, 80469\, Deutschland;X-APPLE-RADIUS=100;X-TITLE=glatteis Die
  Kriminalbuchhandlung:geo:48.130529,11.578119
END:VEVENT
BEGIN:VTIMEZONE
TZID:Europe/Berlin
X-LIC-LOCATION:Europe/Berlin
BEGIN:DAYLIGHT
DTSTART:20260329T030000
TZOFFSETFROM:+0100
TZOFFSETTO:+0200
TZNAME:CEST
END:DAYLIGHT
END:VTIMEZONE
END:VCALENDAR