BEGIN:VCALENDAR
VERSION:2.0
PRODID:-//wp-events-plugin.com//7.2.3.1//EN
TZID:Europe/Berlin
X-WR-TIMEZONE:Europe/Berlin
BEGIN:VEVENT
UID:12701@literaturseiten-muenchen.de
DTSTART;TZID=Europe/Berlin:20260417T190000
DTEND;TZID=Europe/Berlin:20260417T203000
DTSTAMP:20260309T145531Z
URL:https://www.literaturseiten-muenchen.de/veranstaltungen/philipp-gasser
 t-die-bipolare-nation-was-amerika-der-welt-gegeben-hat-im-guten-wie-im-sch
 lechten/
SUMMARY:Philipp Gassert: "Die bipolare Nation - Was Amerika der Welt gegebe
 n hat. Im Guten wie im Schlechten"
DESCRIPTION:Von der Gründung zu Trump\, vom Imperialismus zum Isolationism
 us\, vom Glücksversprechen des Massenkonsums zum Klimawandel\, von der Vo
 rmacht zum chaotischen Faktor\, von der Verheißung zur Gefahr: die gemisc
 hte Bilanz der amerikanischen Epoche. Die Vereinigten Staaten haben sich u
 nd der Welt ungeheuer viel geschenkt – und ähnlich viel zugemutet. Phil
 ipp Gasserts Bilanz der amerikanischen Geschichte und ihres internationale
 n Einflusses ist ambivalent und so erhellend wie ernüchternd\, wenn er na
 chzeichnet\, wie tief die kaum zu überbrückenden Widersprüche\, die heu
 te so offen zutage treten\, in der Gründung und der Geschichte des Landes
  verwurzelt sind.\n\nDiese Veranstaltung ist Teil der Reihe Amerikahaus Bo
 ok Talks.\n\nÜber den Autor:\nPhilipp Gassert ist seit 2014 Inhaber des 
 Lehrstuhls für Zeitgeschichte an der Universität Mannheim. Er hat zuvor 
 am Deutschen Historischen Institut in Washington\, D.C.\, an der Universit
 ät Heidelberg\, der LMU München\, der University of Pennsylvania und der
  Universität Augsburg geforscht und gelehrt und hatte Gastprofessuren in 
 Haifa und Wien inne. Im Jahr 2022 sowie 2023 war er Senior Fellow des Hist
 orischen Kollegs in München. Gassert forscht im Bereich der deutschen und
  europäischen Zeitgeschichte sowie der transatlantischen Geschichte und d
 er US-Außenpolitik des 20. und 21. Jahrhunderts.\n\nAnmeldung:\nDer regul
 äre Eintritt beträgt 10 Euro pro Person.\nDer Eintritt für Schüler*inn
 en und Studierende bis 25 Jahre sowie Mitglieder des Amerikahaus Vereins i
 st kostenlos.\nTickets können unter https://eveeno.com/116174893 erworb
 en werden.\n\nVeranstalter: Stiftung Bayerisches Amerikahaus\, Evangelisc
 he Stadtakademie. Partner: dtv Verlag
CATEGORIES:Buchpräsentation,Lesung
LOCATION:Amerikahaus München\, Karolinenplatz 3\, München\, Bayern\, 8033
 3\, Deutschland
GEO:48.144319;11.567752
X-APPLE-STRUCTURED-LOCATION;VALUE=URI;X-ADDRESS=Karolinenplatz 3\, München
 \, Bayern\, 80333\, Deutschland;X-APPLE-RADIUS=100;X-TITLE=Amerikahaus Mü
 nchen:geo:48.144319,11.567752
END:VEVENT
BEGIN:VTIMEZONE
TZID:Europe/Berlin
X-LIC-LOCATION:Europe/Berlin
BEGIN:DAYLIGHT
DTSTART:20260329T030000
TZOFFSETFROM:+0100
TZOFFSETTO:+0200
TZNAME:CEST
END:DAYLIGHT
END:VTIMEZONE
END:VCALENDAR