BEGIN:VCALENDAR
VERSION:2.0
PRODID:-//wp-events-plugin.com//7.2.3.1//EN
TZID:Europe/Berlin
X-WR-TIMEZONE:Europe/Berlin
BEGIN:VEVENT
UID:11817@literaturseiten-muenchen.de
DTSTART;TZID=Europe/Berlin:20251008T190000
DTEND;TZID=Europe/Berlin:20251008T210000
DTSTAMP:20250916T083316Z
URL:https://www.literaturseiten-muenchen.de/veranstaltungen/poesie-woander
 s-lesebuehne-live-musik-2/
SUMMARY:Poesie Woanders – Lesebühne & Live-Musik
DESCRIPTION:Jeden 2. Mittwoch im Monat wird’s poetisch!\n\nPoesie Woander
 s bringt Poet:innen mit unterschiedlichen Stimmen\, Perspektiven und Gefü
 hlen zusammen – live auf der Bühne\, mal laut\, mal leise\, mal schräg
 \, immer berührend. Dazu gibt’s jedes Mal Live-Musik\, die den Abend in
  Klang taucht und Raum für Emotion schafft. Ein Ort voller sprachlicher M
 agie\, überraschender Begegnungen und inspirierender Momente.\n\nDu schre
 ibst selbst? Dann melde dich gern – wir freuen uns über neue Poet:innen
  auf unserer Bühne!
CATEGORIES:Lesung,Literatur &amp; Musik
LOCATION:Gans Woanders\, Pilgersheimer Straße 13\, München\, Deutschland
GEO:48.118238;11.574726
X-APPLE-STRUCTURED-LOCATION;VALUE=URI;X-ADDRESS=Pilgersheimer Straße 13\, 
 München\, Deutschland;X-APPLE-RADIUS=100;X-TITLE=Gans Woanders:geo:48.118
 238,11.574726
END:VEVENT
BEGIN:VTIMEZONE
TZID:Europe/Berlin
X-LIC-LOCATION:Europe/Berlin
BEGIN:DAYLIGHT
DTSTART:20250330T030000
TZOFFSETFROM:+0100
TZOFFSETTO:+0200
TZNAME:CEST
END:DAYLIGHT
END:VTIMEZONE
END:VCALENDAR