BEGIN:VCALENDAR
VERSION:2.0
PRODID:-//wp-events-plugin.com//7.2.3.1//EN
TZID:Europe/Berlin
X-WR-TIMEZONE:Europe/Berlin
BEGIN:VEVENT
UID:12219@literaturseiten-muenchen.de
DTSTART;TZID=Europe/Berlin:20260127T200000
DTEND;TZID=Europe/Berlin:20260127T220000
DTSTAMP:20251210T113754Z
URL:https://www.literaturseiten-muenchen.de/veranstaltungen/poetry-in-moti
 on-10/
SUMMARY:Poetry in Motion
DESCRIPTION:Mit Anna Lisa Azur (Bonn)\, Elena Calliopa (München) und Björ
 n Högsdal (Kiel)\nAn den Turntables: Siamian Keiser\nModeration: Ko Bylan
 zky\nEintritt: € 9 / € 6\; Mitglieder unseres Freundeskreises: freier 
 Eintritt\nAbendkasse\, freie Platzwahl\n\nWort und Beats zu einem bunten G
 esamterlebnis vereint\, das unter die Haut geht und keinen unberührt nach
  Hause gehen lässt: Poetry in Motion. Hochklassige Slam Poetinnen und Poe
 ten in zugleich gemütlicher und aufregender Atmosphäre! Alle drei Abendg
 äste haben mit mindestens 25 Minuten genug Zeit\, um das Publikum ganz in
  ihren Lyrikkosmos mitzunehmen. Am DJ-Pult sorgt Simian Keiser für zünde
 nden Sound\, und Ko Bylanzky ist wieder der perfekte Gastgeber. Kommt vorb
 ei!
CATEGORIES:Lesung,Literatur &amp; Musik,PoetrySlam
LOCATION:Lyrik Kabinett\, Amalienstraße 83 a\, München\, Bayern\, 80799\,
  München\, Deutschland
GEO:48.15127;11.578853
X-APPLE-STRUCTURED-LOCATION;VALUE=URI;X-ADDRESS=Amalienstraße 83 a\, Münc
 hen\, Bayern\, 80799\, München\, Deutschland;X-APPLE-RADIUS=100;X-TITLE=L
 yrik Kabinett:geo:48.15127,11.578853
END:VEVENT
BEGIN:VTIMEZONE
TZID:Europe/Berlin
X-LIC-LOCATION:Europe/Berlin
BEGIN:STANDARD
DTSTART:20251026T020000
TZOFFSETFROM:+0200
TZOFFSETTO:+0100
TZNAME:CET
END:STANDARD
END:VTIMEZONE
END:VCALENDAR