BEGIN:VCALENDAR
VERSION:2.0
PRODID:-//wp-events-plugin.com//7.2.3.1//EN
TZID:Europe/Berlin
X-WR-TIMEZONE:Europe/Berlin
BEGIN:VEVENT
UID:11792@literaturseiten-muenchen.de
DTSTART;TZID=Europe/Berlin:20251030T200000
DTEND;TZID=Europe/Berlin:20251030T221500
DTSTAMP:20250915T155724Z
URL:https://www.literaturseiten-muenchen.de/veranstaltungen/poetry-parade-
 3/
SUMMARY:Poetry &amp\; Parade
DESCRIPTION:Die Gastgeber Jaromir Konecny und Frank Klötgen begrüßen: de
 n humoristischen Geschichtenerzähler Volker Keidel\, die Kabarettistin Cl
 audia Pichler und den mundartlichen Liedermacher Michi Dietmayr.\nEintritt
 : 10€ I Anmeldung: info@pelkovenschloessl.de oder 14 33 818 21
CATEGORIES:Literatur &amp; Musik,PoetrySlam
LOCATION:Kultur- und Bürgerhaus Pelkovenschlössl\, Moosacher St.-Martins-
 Platz 2\, München\, 80992\, Deutschland
GEO:48.181041;11.517181100000016
X-APPLE-STRUCTURED-LOCATION;VALUE=URI;X-ADDRESS=Moosacher St.-Martins-Platz
  2\, München\, 80992\, Deutschland;X-APPLE-RADIUS=100;X-TITLE=Kultur- und
  Bürgerhaus Pelkovenschlössl:geo:48.181041,11.517181100000016
END:VEVENT
BEGIN:VTIMEZONE
TZID:Europe/Berlin
X-LIC-LOCATION:Europe/Berlin
BEGIN:STANDARD
DTSTART:20251026T020000
TZOFFSETFROM:+0200
TZOFFSETTO:+0100
TZNAME:CET
END:STANDARD
END:VTIMEZONE
END:VCALENDAR