BEGIN:VCALENDAR
VERSION:2.0
PRODID:-//wp-events-plugin.com//7.2.3.1//EN
TZID:Europe/Berlin
X-WR-TIMEZONE:Europe/Berlin
BEGIN:VEVENT
UID:11791@literaturseiten-muenchen.de
DTSTART;TZID=Europe/Berlin:20250928T200000
DTEND;TZID=Europe/Berlin:20250928T221500
DTSTAMP:20250915T155706Z
URL:https://www.literaturseiten-muenchen.de/veranstaltungen/poetry-parade/
SUMMARY:Poetry &amp\; Parade
DESCRIPTION:Die Gastgeber Jaromir Konecny und Frank Klötgen begrüßen: Ju
 lis Althoetmar\, frisch gebackener dreifacher Bayernslam-Champion in Folge
 \, den Musiker Martin Lidl mit seinem Projekt Lidloop und den Entertainer 
 und Musik-Kabarettist Michi Marchner.\n\nEintritt: 10€ I Anmeldung:\ninf
 o@pelkovenschloessl.de oder 14 33 818 21
CATEGORIES:Literatur &amp; Musik,PoetrySlam
LOCATION:Kultur- und Bürgerhaus Pelkovenschlössl\, Moosacher St.-Martins-
 Platz 2\, München\, 80992\, Deutschland
GEO:48.181041;11.517181100000016
X-APPLE-STRUCTURED-LOCATION;VALUE=URI;X-ADDRESS=Moosacher St.-Martins-Platz
  2\, München\, 80992\, Deutschland;X-APPLE-RADIUS=100;X-TITLE=Kultur- und
  Bürgerhaus Pelkovenschlössl:geo:48.181041,11.517181100000016
END:VEVENT
BEGIN:VTIMEZONE
TZID:Europe/Berlin
X-LIC-LOCATION:Europe/Berlin
BEGIN:DAYLIGHT
DTSTART:20250330T030000
TZOFFSETFROM:+0100
TZOFFSETTO:+0200
TZNAME:CEST
END:DAYLIGHT
END:VTIMEZONE
END:VCALENDAR