BEGIN:VCALENDAR
VERSION:2.0
PRODID:-//wp-events-plugin.com//7.2.3.1//EN
TZID:Europe/Berlin
X-WR-TIMEZONE:Europe/Berlin
BEGIN:VEVENT
UID:12315@literaturseiten-muenchen.de
DTSTART;TZID=Europe/Berlin:20260115T200000
DTEND;TZID=Europe/Berlin:20260115T221500
DTSTAMP:20260106T125946Z
URL:https://www.literaturseiten-muenchen.de/veranstaltungen/poetry-slam-ne
 uhausen-slammed-das-jahresfinale-2/
SUMMARY:Poetry Slam - Neuhausen Slammed! Das Jahresfinale
DESCRIPTION:Neuhausen Slammed! - Münchens kuschligster Poetry Slam startet
  ins 3. Jahr!\nModeriert von der charmanten Schweizer Kabarettistin Mary L
 ong und dem nicht minder charmanten (Bühnen) Poeten Knud "the Dude" Hamme
 rschmidt.\nNeuhausen Slammed! ist der Poetry Slam im Münchner Westen\, mi
 t ebenso bekannten Bühnen-Poet*innen\, wie auch spannenden Newcomern und 
 Local Heroes\, bei dem sich aus dem Zusammenspiel von Künstler*innen\, Mo
 deration und Publikum eine charmante und liebenswerte Atmosphäre ergibt.\
 nReservierungen können über Mail vorgenommen werden:\nneuhausenslammed@g
 mx.de
CATEGORIES:Lesung,PoetrySlam
LOCATION:Kultur im Trafo\, Nymphenburger Str. 171a\, München\, 80634\, Deu
 tschland
GEO:48.155222;11.531655
X-APPLE-STRUCTURED-LOCATION;VALUE=URI;X-ADDRESS=Nymphenburger Str. 171a\, M
 ünchen\, 80634\, Deutschland;X-APPLE-RADIUS=100;X-TITLE=Kultur im Trafo:g
 eo:48.155222,11.531655
END:VEVENT
BEGIN:VTIMEZONE
TZID:Europe/Berlin
X-LIC-LOCATION:Europe/Berlin
BEGIN:STANDARD
DTSTART:20251026T020000
TZOFFSETFROM:+0200
TZOFFSETTO:+0100
TZNAME:CET
END:STANDARD
END:VTIMEZONE
END:VCALENDAR