BEGIN:VCALENDAR
VERSION:2.0
PRODID:-//wp-events-plugin.com//7.2.3.1//EN
TZID:Europe/Berlin
X-WR-TIMEZONE:Europe/Berlin
BEGIN:VEVENT
UID:11479@literaturseiten-muenchen.de
DTSTART;TZID=Europe/Berlin:20251119T183000
DTEND;TZID=Europe/Berlin:20251119T194500
DTSTAMP:20250801T051836Z
URL:https://www.literaturseiten-muenchen.de/veranstaltungen/polarisierung-
 ueber-ordnung-in-der-politik-2/
SUMMARY:Polarisierung. Über Ordnung in der Politik
DESCRIPTION:Buchvorstellung und Gespräch\n\nFast jede Beschreibung unserer
  Gesellschaft kommt nicht umhin\, irgendwann auf die – vermeintlich wach
 sende – Polarisierung einzugehen. Aber diese Spaltung ist laut Nils Kumk
 ar nicht nur normal\, sondern sogar gewünscht. Die Frage\, die wir uns st
 attdessen stellen sollten\, lautet vielmehr: Wie können wir als Gesellsch
 aft produktiver spalten?\n\nMit: Nils Kumkar (Politikwissenschaftler)\n\nD
 ie Teilnahme ist kostenlos. Um Anmeldung wird gebeten: https://rausgegange
 n.de/events/polarisierung-uber-ordnung-in-der-politik-0/
CATEGORIES:Buchpräsentation,Gespräch / Diskussion,Lesung
LOCATION:GESELLSCHAFTSRAUM\, Buttermelcherstraße 15\, München\, Deutschla
 nd
GEO:48.132404;11.578812
X-APPLE-STRUCTURED-LOCATION;VALUE=URI;X-ADDRESS=Buttermelcherstraße 15\, M
 ünchen\, Deutschland;X-APPLE-RADIUS=100;X-TITLE=GESELLSCHAFTSRAUM:geo:48.
 132404,11.578812
END:VEVENT
BEGIN:VTIMEZONE
TZID:Europe/Berlin
X-LIC-LOCATION:Europe/Berlin
BEGIN:STANDARD
DTSTART:20251026T020000
TZOFFSETFROM:+0200
TZOFFSETTO:+0100
TZNAME:CET
END:STANDARD
END:VTIMEZONE
END:VCALENDAR