BEGIN:VCALENDAR
VERSION:2.0
PRODID:-//wp-events-plugin.com//7.2.3.1//EN
TZID:Europe/Berlin
X-WR-TIMEZONE:Europe/Berlin
BEGIN:VEVENT
UID:12967@literaturseiten-muenchen.de
DTSTART;TZID=Europe/Berlin:20260512T190000
DTEND;TZID=Europe/Berlin:20260512T220000
DTSTAMP:20260420T123549Z
URL:https://www.literaturseiten-muenchen.de/veranstaltungen/present-past-w
 ie-nachfahren-ihre-ns-familiengeschichte-erforschen-lesung-gespraech-mit-j
 ohannes-spohr/
SUMMARY:Present Past. Wie Nachfahren ihre NS-Familiengeschichte erforschen:
  Lesung &amp\; Gespräch mit Johannes Spohr
DESCRIPTION:Wie lässt sich die eigene Familiengeschichte im Nationalsozial
 ismus erforschen? Der Historiker und Autor Johannes Spohr forscht seit Jah
 ren zu NS-Familiengeschichten und gibt Rechercheworkshops. In seinem Buch 
 "Present Past" (Metropol 2026) berichten zehn Menschen wie sie zum Nationa
 lsozialismus in der eigenen Familie recherchiert haben und wie sie mit den
  Erkenntnissen umgehen.\n\nIn einer Lesung mit anschließendem Gespräch d
 iskutieren Johannes Spohr und Felicitas Friedrich (Monacensia) aktuelle En
 twicklungen in der Erinnerungskultur – und wie sie das Schreiben über N
 S-Täter*innenschaft in Familien beeinflussen.\n\nHinweis: Bereits um 17 U
 hr haben Sie Gelegenheit\, an der Kurator*innenführung "Maria Theresia 23
 . Biografie einer Münchner Villa" teilzunehmen. Kuratorin Sylvia Schütz 
 führt durch die Dauerausstellung und spricht darüber\, wie sich die Biog
 rafie eines Hauses befragen und erzählen lässt.\n\nEintritt frei\nOhne A
 nmeldung
CATEGORIES:Gespräch / Diskussion,Lesung
LOCATION:Monacensia im Hildebrandhaus\, Maria-Theresia-Str. 23\, München\,
  Deutschland
GEO:48.1436397;11.598950100000024
X-APPLE-STRUCTURED-LOCATION;VALUE=URI;X-ADDRESS=Maria-Theresia-Str. 23\, M
 ünchen\, Deutschland;X-APPLE-RADIUS=100;X-TITLE=Monacensia im Hildebrandh
 aus:geo:48.1436397,11.598950100000024
END:VEVENT
BEGIN:VTIMEZONE
TZID:Europe/Berlin
X-LIC-LOCATION:Europe/Berlin
BEGIN:DAYLIGHT
DTSTART:20260329T030000
TZOFFSETFROM:+0100
TZOFFSETTO:+0200
TZNAME:CEST
END:DAYLIGHT
END:VTIMEZONE
END:VCALENDAR