BEGIN:VCALENDAR
VERSION:2.0
PRODID:-//wp-events-plugin.com//7.2.3.1//EN
TZID:Europe/Berlin
X-WR-TIMEZONE:Europe/Berlin
BEGIN:VEVENT
UID:11851@literaturseiten-muenchen.de
DTSTART;TZID=Europe/Berlin:20251129T123000
DTEND;TZID=Europe/Berlin:20251129T183000
DTSTAMP:20251001T130739Z
URL:https://www.literaturseiten-muenchen.de/veranstaltungen/programme-in-e
 nglish-writing-for-your-life-a-lively-retreat/
SUMMARY:Programme in English: Writing for your Life - a Lively Retreat
DESCRIPTION:Writing does not begin on the page - it begins in the heart\, p
 alms\, eyes\, ears\, nose\, toes\, belly\, and in the hairs at the back of
  your neck. It is an intimate\, lovely\, and often surprising way of being
  and breathing in the world. This workshop is an exploratory celebration o
 f the dance between your writing and your life. In the warmth of a group\,
  we will tap into our senses\, our natural sense of curiosity and play\, a
 nd explore the unknown wilds of both our memories and imaginations.\n\nKur
 snummer: V247080\n\nTermine: 29.11.2025\, 06.12.2025\n\nDozentin: Carolyn 
 Morrow\n\nGebühr: € 98\,-\n\nWeitere Informationen erhalten Sie unter:
  https://www.mvhs.de/kurse/kultur-kunst-kreativitaet/kreatives-schreiben/
 texte-aller-art/programme-in-english-writing-for-your-life-a-lively-retrea
 t-460-C-V247080
CATEGORIES:Schreibwerkstatt
LOCATION:MVHS Hadern\, Guardinistr. 90\, München\, Deutschland
GEO:48.11852;11.490890000000035
X-APPLE-STRUCTURED-LOCATION;VALUE=URI;X-ADDRESS=Guardinistr. 90\, München\
 , Deutschland;X-APPLE-RADIUS=100;X-TITLE=MVHS Hadern:geo:48.11852,11.49089
 0000000035
END:VEVENT
BEGIN:VTIMEZONE
TZID:Europe/Berlin
X-LIC-LOCATION:Europe/Berlin
BEGIN:STANDARD
DTSTART:20251026T020000
TZOFFSETFROM:+0200
TZOFFSETTO:+0100
TZNAME:CET
END:STANDARD
END:VTIMEZONE
END:VCALENDAR