BEGIN:VCALENDAR
VERSION:2.0
PRODID:-//wp-events-plugin.com//7.2.3.1//EN
TZID:Europe/Berlin
X-WR-TIMEZONE:Europe/Berlin
BEGIN:VEVENT
UID:12037@literaturseiten-muenchen.de
DTSTART;TZID=Europe/Berlin:20251202T190000
DTEND;TZID=Europe/Berlin:20251202T190000
DTSTAMP:20251029T095905Z
URL:https://www.literaturseiten-muenchen.de/veranstaltungen/queer-durch-di
 e-gesellschaft-die-schwuhplattler/
SUMMARY:Queer durch die Gesellschaft: Die Schwuhplattler
DESCRIPTION:Eintritt frei\nVeranstaltungsort: Saal\, Erdgeschoss\nQueere Me
 nschen waren schon immer da – überall. Sepp und Christian sind im Vorst
 and der Schwuhplattler\, dem weltweit ersten Verein\, der Homosexualität 
 und Schuhplattln miteinander verbindet. Gemeinsam mit Moderator und Journa
 list Maximilian Pichlmeier sprechen sie über ihre Erfahrungen im Spannung
 sverhältnis zwischen Tradition und queerem Leben. Wie steht es um das The
 ma Diversität mit Blick auf das Brauchtum in Bayern\, was macht Schuhplat
 tln so besonders und was hat das Ganze eigentlich mit Demokratie zu tun?\n
 \nMit anschließendem Get-together zum Austausch in der Bibliothek.\n\nInf
 ormationen zur Anmeldung\n\n\nAnmeldung persönlich vor Ort\, telefonisch 
 unter 089 233 772417 oder per E-Mail an stb.bogenhausen.kult(at)muenchen.d
 e\n\nEinlassvorbehalt: Personen\, die rechtsextremen Parteien oder Organis
 ationen angehören\, der rechtsextremen Szene zuzuordnen sind oder bereits
  in der Vergangenheit durch rassistische\, nationalistische\, antisemitisc
 he\, sexistische\, LGBTIQ*-feindliche oder sonstige menschenverachtende Ä
 ußerungen in Erscheinung getreten sind\, sind von der Veranstaltung ausge
 schlossen.\n\n\n\n\nKooperationspartner\n\n\nd'Schwuhplattler e.V. \n\n\n
CATEGORIES:Gespräch / Diskussion
LOCATION:Stadtbibliothek Bogenhausen\, Rosenkavalierplatz 16\, München\, B
 ayern\, 81925\, Deutschland
GEO:48.1522515;11.618572599999993
X-APPLE-STRUCTURED-LOCATION;VALUE=URI;X-ADDRESS=Rosenkavalierplatz 16\, Mü
 nchen\, Bayern\, 81925\, Deutschland;X-APPLE-RADIUS=100;X-TITLE=Stadtbibli
 othek Bogenhausen:geo:48.1522515,11.618572599999993
END:VEVENT
BEGIN:VTIMEZONE
TZID:Europe/Berlin
X-LIC-LOCATION:Europe/Berlin
BEGIN:STANDARD
DTSTART:20251026T020000
TZOFFSETFROM:+0200
TZOFFSETTO:+0100
TZNAME:CET
END:STANDARD
END:VTIMEZONE
END:VCALENDAR