BEGIN:VCALENDAR
VERSION:2.0
PRODID:-//wp-events-plugin.com//7.2.3.1//EN
TZID:Europe/Berlin
X-WR-TIMEZONE:Europe/Berlin
BEGIN:VEVENT
UID:12089@literaturseiten-muenchen.de
DTSTART;TZID=Europe/Berlin:20251204T190000
DTEND;TZID=Europe/Berlin:20251204T210000
DTSTAMP:20251107T085118Z
URL:https://www.literaturseiten-muenchen.de/veranstaltungen/rainer-maria-r
 ilke-und-seine-grosse-liebe-2/
SUMMARY:Rainer Maria Rilke und seine große Liebe
DESCRIPTION:Eine poetisch-musikalische Veranstaltung zum 150. Geburts- tag 
 des Dichters Rainer Maria Rilke (1875 - 1926)
CATEGORIES:Literatur &amp; Musik
LOCATION:Eine Welt Haus\, Schwanthalerstr. 80\, München\, 80336\, Deutschl
 and
GEO:48.13768;11.552916
X-APPLE-STRUCTURED-LOCATION;VALUE=URI;X-ADDRESS=Schwanthalerstr. 80\, Münc
 hen\, 80336\, Deutschland;X-APPLE-RADIUS=100;X-TITLE=Eine Welt Haus:geo:48
 .13768,11.552916
END:VEVENT
BEGIN:VTIMEZONE
TZID:Europe/Berlin
X-LIC-LOCATION:Europe/Berlin
BEGIN:STANDARD
DTSTART:20251026T020000
TZOFFSETFROM:+0200
TZOFFSETTO:+0100
TZNAME:CET
END:STANDARD
END:VTIMEZONE
END:VCALENDAR