BEGIN:VCALENDAR
VERSION:2.0
PRODID:-//wp-events-plugin.com//7.2.3.1//EN
TZID:Europe/Berlin
X-WR-TIMEZONE:Europe/Berlin
BEGIN:VEVENT
UID:11865@literaturseiten-muenchen.de
DTSTART;TZID=Europe/Berlin:20251110T200000
DTEND;TZID=Europe/Berlin:20251110T221500
DTSTAMP:20251009T141718Z
URL:https://www.literaturseiten-muenchen.de/veranstaltungen/reformbuehne-h
 eim-welt-lesebuehnen-zu-gast-in-schwabing/
SUMMARY:Reformbühne Heim &amp\; Welt - Lesebühnen zu Gast in Schwabing
DESCRIPTION:Mit Ahne\, Falko Henning\, Spider Krenzke und Mandana Katebian.
  Präsentiert von Frank Klötgen (Lach- &amp\; Schießensemble).\n\nMit ih
 ren gesellschaftssatirischen Texten und festem Autor*innenstam weisen die 
 in Berlin entstandenen "Lesebühnen" viele Parallelen zu politischen Kabar
 ettensembles á la Lach- &amp\; Schieß auf. Anlässlich des 30jährigen J
 ubiläums der Lesebühnenkultur startet in den Spielstätten der Münchner
  Lach- &amp\; Schießgesellschaft eine bundesweit einzigartige Reihe\, bei
  der sich legendäre Bühnen mit ihren besten Texten in München präsenti
 eren.\n\nWir starten mit der ältesten noch bestehenden Lesebühne "Reform
 bühne Heim &amp\; Welt"\, die seit über 30 Jahren jeden Sonntag (und dam
 it ist tatsächlich JEDER Sonntag gemeint\, ob Weihnachten oder Silvester)
  im Prenzlauer Berg stattfindet. Die Reformbühne besucht uns mit den zwei
  verbliebenen Gründungsmitgliedern und Buchautoren Ahne und Falko Henning
  sowie Spider Krenzke\, der seit 2000 dabei ist\, aber auch Gründungsmitg
 lied der Bühnen "Surfpoeten" und "LSD - Liebe statt Drogen" (die zweitäl
 teste noch bestehende Lesebühne). Außerdem werden sie als Dame im Bunde 
 die frisch dazugestoßene Mandana Katebian mitbringen.\n\n"Eines der Kennz
 eichen dieser Lesebühne ist die ironische Mischung von Literatur und poli
 tischer Agitation"\, ist auf Wikipedia zu lesen und tatsächlich beweist d
 ie Reformbühne jährlich einen ganz besonderen politischer Anspruch\, ste
 llt sie doch mit Spider und Ahne die Initatoren von den Demos zum "Interna
 tionalen Kampf- und Feiertag der Arbeitslosen"\, der in Berlin an jedem 2.
  Mai stattfindet. Zum 30jährigen Jubiläum der "Reformbühne Heim &amp\; 
 Welt" erscheint im Oktober 2025 ein neues Buch "Schnauze" im SATYR-Verlag.
 \n\nKurz: wiederbelebte Berliner Sponti-Anarchoattitüde mit viel Witz und
  feinsinnigem Geist!
CATEGORIES:Lesung,Literatur &amp; Musik,PoetrySlam
LOCATION:Kult56\, Ursulastr. 9\, München\, 80802\, Deutschland
GEO:48.16191;11.590799
X-APPLE-STRUCTURED-LOCATION;VALUE=URI;X-ADDRESS=Ursulastr. 9\, München\, 8
 0802\, Deutschland;X-APPLE-RADIUS=100;X-TITLE=Kult56:geo:48.16191,11.59079
 9
END:VEVENT
BEGIN:VTIMEZONE
TZID:Europe/Berlin
X-LIC-LOCATION:Europe/Berlin
BEGIN:STANDARD
DTSTART:20251026T020000
TZOFFSETFROM:+0200
TZOFFSETTO:+0100
TZNAME:CET
END:STANDARD
END:VTIMEZONE
END:VCALENDAR