BEGIN:VCALENDAR
VERSION:2.0
PRODID:-//wp-events-plugin.com//7.2.3.1//EN
TZID:Europe/Berlin
X-WR-TIMEZONE:Europe/Berlin
BEGIN:VEVENT
UID:12026@literaturseiten-muenchen.de
DTSTART;TZID=Europe/Berlin:20251127T190000
DTEND;TZID=Europe/Berlin:20251127T210000
DTSTAMP:20251028T143655Z
URL:https://www.literaturseiten-muenchen.de/veranstaltungen/rieke-havertz-
 goodbye-amerika-die-usa-und-wir-eine-neuvermessung/
SUMMARY:Rieke Havertz: "Goodbye\, Amerika? Die USA und wir – eine Neuverm
 essung"
DESCRIPTION:Ein zweites Mal Trump\, Tech-Milliardäre im amerikanischen und
  im deutschen Wahlkampf\, das transatlantische Bündnis in der Krise: Der 
 Blick auf die USA macht zunehmend ratlos\, die Berichterstattung hierzulan
 de ist geprägt von Antiamerikanismus\, Sensationalismus und dem Mantra vo
 m gespaltenen Land.\n\nAber es geht auch anders. Und vor allem produktiver
 . Denn die USA sind nach wie vor das mächtigste Land der Welt\, ein echte
 s Verständnis als Basis einer zukunftsfähigen Beziehung ist daher unerl
 ässlich. Die langjährige USA-Expertin und -Korrespondentin Rieke Havertz
  lädt uns ein in ihr Amerika. Sie spürt überraschenden Fakten nach\, f
 ührt uns zu den Schlüsselorten des Landes und macht deutlich: Wer die US
 -Politik verstehen will\, muss die Menschen verstehen.\n\nDiese Veranstalt
 ung ist Teil unserer Reihe Amerikahaus Book Talks.\nÜber die Autorin\nRi
 eke Havertz ist internationale Korrespondentin bei der ZEIT und seit 202
 0 Co-Host des Podcasts OK\, America? Havertz hat in Leipzig und an der O
 hio University Journalismus und Amerikanistik studiert. Nach einigen Jahre
 n bei der taz ist sie seit 2016 bei ZEIT ONLINE\, zunächst als Redakti
 onsleiterin und Chefin vom Dienst.
CATEGORIES:Buchpräsentation,Lesung
LOCATION:Amerikahaus München\, Karolinenplatz 3\, München\, Bayern\, 8033
 3\, Deutschland
GEO:48.144319;11.567752
X-APPLE-STRUCTURED-LOCATION;VALUE=URI;X-ADDRESS=Karolinenplatz 3\, München
 \, Bayern\, 80333\, Deutschland;X-APPLE-RADIUS=100;X-TITLE=Amerikahaus Mü
 nchen:geo:48.144319,11.567752
END:VEVENT
BEGIN:VTIMEZONE
TZID:Europe/Berlin
X-LIC-LOCATION:Europe/Berlin
BEGIN:STANDARD
DTSTART:20251026T020000
TZOFFSETFROM:+0200
TZOFFSETTO:+0100
TZNAME:CET
END:STANDARD
END:VTIMEZONE
END:VCALENDAR