BEGIN:VCALENDAR
VERSION:2.0
PRODID:-//wp-events-plugin.com//7.2.3.1//EN
TZID:Europe/Berlin
X-WR-TIMEZONE:Europe/Berlin
BEGIN:VEVENT
UID:11628@literaturseiten-muenchen.de
DTSTART;TZID=Europe/Berlin:20251204T190000
DTEND;TZID=Europe/Berlin:20251204T220000
DTSTAMP:20250821T142448Z
URL:https://www.literaturseiten-muenchen.de/veranstaltungen/rilke-und-prag
 /
SUMMARY:Rilke und Prag
DESCRIPTION:\n\n\n\nTermin: Donnerstag\, 4. Dezember 2025\, 19.00 Uhr\n\nR
 eferentin: Dr. Zuzana Jürgens (Geschäftsführerin des Adalbert Stifter 
 Vereins – Kulturinstitut für die böhmischen Länder)\n\nLesung: Rober
 t Spitz (tbc)\n\nOrt: Haus des Deutschen Ostens\, Am Lilienberg 5\, 81669
  München\n\nIn Kooperation mit: Adalbert-Stifter-Verein – Kulturinstit
 ut für die böhmischen Länder\n\n\n\n\n\n\n\nEin Abend über Rilkes Prag
 er Jahre\, sein literarisches Frühwerk und seine Beziehungen zu Böhmen.\
 n\nRainer Maria Rilke\, geboren am 4. Dezember 1875 in Prag\, zählt zu de
 n bedeutendsten Schriftstellern des 20. Jahrhunderts. Seine Geburtsstadt s
 owie der böhmische Raum – sowohl im deutschen als auch im tschechischen
  kulturellen und gesellschaftlichen Kontext – prägten sein Werk maßgeb
 lich. Durch persönliche und literarische Kontakte hielt er seine Verbindu
 ng zu Böhmen auch nach seinem endgültigen Weggang im Jahr 1896 aufrecht\
 , beispielsweise im Briefwechsel mit Sidonie Nádherný von Borutín. Anha
 nd seiner Gedichte\, vor allem aus der Sammlung „Larenopfer“ (1895)\, 
 sowie Erzählungen und Briefen\, möchte der Abend den jungen Rilke und di
 e Prager sowie böhmischen Motive in seinem Werk näherbringen.\n\nDies is
 t der erste Abend einer dreiteiligen Reihe\, zu der auch zwei weitere Vort
 räge – „Rilke und München“ (29. Januar 2026) sowie „Rilke und Ru
 ssland“ (12. Februar 2026) – gehören.\n\n\n
CATEGORIES:Lesung,Vortrag
LOCATION:Haus des Deutschen Ostens\, Am Lilienberg 5\, München\, 81669 \, 
 Deutschland
GEO:48.130775;11.588826
X-APPLE-STRUCTURED-LOCATION;VALUE=URI;X-ADDRESS=Am Lilienberg 5\, München\
 , 81669 \, Deutschland;X-APPLE-RADIUS=100;X-TITLE=Haus des Deutschen Osten
 s:geo:48.130775,11.588826
END:VEVENT
BEGIN:VTIMEZONE
TZID:Europe/Berlin
X-LIC-LOCATION:Europe/Berlin
BEGIN:STANDARD
DTSTART:20251026T020000
TZOFFSETFROM:+0200
TZOFFSETTO:+0100
TZNAME:CET
END:STANDARD
END:VTIMEZONE
END:VCALENDAR