BEGIN:VCALENDAR
VERSION:2.0
PRODID:-//wp-events-plugin.com//7.2.3.1//EN
TZID:Europe/Berlin
X-WR-TIMEZONE:Europe/Berlin
BEGIN:VEVENT
UID:12953@literaturseiten-muenchen.de
DTSTART;TZID=Europe/Berlin:20260518T190000
DTEND;TZID=Europe/Berlin:20260518T210000
DTSTAMP:20260415T161530Z
URL:https://www.literaturseiten-muenchen.de/veranstaltungen/rosemarie-tiet
 ze-roman-getaeuscht-von-juri-felsen/
SUMMARY:Rosemarie Tietze: Roman „Getäuscht“ von Juri Felsen
DESCRIPTION:Wiederentdeckung und Erstübersetzung aus dem Russischen ins De
 utsche\n\nParis galt in den 20ern und 30ern als Zentrum der Weltkultur\, z
 ugleich bot die Stadt der russischen Exilkultur die wichtigste Bühne im W
 esten. Nikolai Freudenstein (geb. 1894 in einer Petersburger jüdischen Fa
 milie) brachte unter dem Pseudonym Juri Felsen 1930 in Paris seinen ersten
  Roman heraus: „Getäuscht“. Der junge Autor kannte sich aus in der da
 maligen literarischen Moderne\, schon sein Erstlingswerk sorgte für Furor
 e und verschaffte ihm den Ruf\, ein „Proustianer“ zu sein. Der ältere
 n\, eher der Tradition zugeneigten Emigrantengeneration schien so viel Ava
 ntgarde nicht recht geheuer\, und so begleiteten Felsen\, dessen Stimme im
  Pariser russischen Literaturleben damals unüberhörbar war\, oft heftige
  Diskussionen. Als Frankreich 1940 besetzt wurde\, musste Felsen untertauc
 hen\; beim Versuch\, die Schweizer Grenze zu überqueren\, fasste ihn eine
  deutsche Patrouille\, und Anfang 1943 wurde Felsen in Auschwitz ermordet.
 \n\nFelsens Werke blieben nach dem Krieg lange vergessen\, erst 2012 kam i
 n Moskau eine zweibändige Gesamtausgabe heraus. Mit Rosemarie Tietzes deu
 tscher Übersetzung von „Getäuscht“\, die 2025 bei Kiepenheuer &amp\;
  Witsch erschien\, liegt nun ein erstes Werk von Felsen auf Deutsch vor. D
 er Roman fand viel Resonanz bei der hiesigen Kritik\; Denis Scheck nannte 
 ihn einen „Sensationsfund“.\n\nJuri Felsen\, Getäuscht\,Übersetzt un
 d kommentiert von Rosemarie Tietze\, ISBN 978-3-462-00631-5
CATEGORIES:Lesung
LOCATION:Bayerische Ostgesellschaft\, Am Lilienberg 5\, München\, 81669\, 
 Deutschland
GEO:48.130801;11.58882
X-APPLE-STRUCTURED-LOCATION;VALUE=URI;X-ADDRESS=Am Lilienberg 5\, München\
 , 81669\, Deutschland;X-APPLE-RADIUS=100;X-TITLE=Bayerische Ostgesellschaf
 t:geo:48.130801,11.58882
END:VEVENT
BEGIN:VTIMEZONE
TZID:Europe/Berlin
X-LIC-LOCATION:Europe/Berlin
BEGIN:DAYLIGHT
DTSTART:20260329T030000
TZOFFSETFROM:+0100
TZOFFSETTO:+0200
TZNAME:CEST
END:DAYLIGHT
END:VTIMEZONE
END:VCALENDAR