BEGIN:VCALENDAR
VERSION:2.0
PRODID:-//wp-events-plugin.com//7.2.3.1//EN
TZID:Europe/Berlin
X-WR-TIMEZONE:Europe/Berlin
BEGIN:VEVENT
UID:11869@literaturseiten-muenchen.de
DTSTART;TZID=Europe/Berlin:20251127T190000
DTEND;TZID=Europe/Berlin:20251127T210000
DTSTAMP:20251006T083755Z
URL:https://www.literaturseiten-muenchen.de/veranstaltungen/rueckkehr-von-
 kraehe/
SUMMARY:rückkehr von krähe
DESCRIPTION:Ulf Stolterfoht liest aus seinem Abenteuergedicht\nund spricht 
 darüber mit Monika Rinck\nEintritt: € 9 / € 6\; Mitglieder unseres Fr
 eundeskreises: freier Eintritt\nAbendkasse\, freie Platzwahl\n\n„Die Kr
 ähen behaupten\, eine einzige Krähe könnte den Himmel zerstören. Das i
 st zweifellos\, beweist aber nichts gegen den Himmel\, denn Himmel bedeute
 t eben: Unmöglichkeit von Krähen.“ (Zitat von Franz Kafka\, von Ulf St
 olterfoht auf sein Langgedicht angewendet)\n\nKrähe ist zurück. Geboren 
 1970 als „Crow“ aus der Feder von Ted Hughes\, hat er mit seiner Sprac
 hgewalt wenig später Ulf Stolterfoht erreicht – und nun tritt er als da
 s schillernde Zentrum von Stolterfohts drittem Langgedicht in Erscheinung.
  Die Jury des Ernst-Jandl-Preises\, die 2025 – im Jahr von Jandls 100. G
 eburtstag – Ulf Stolterfoht zum Träger des renommierte Preises ernannte
 \, schreibt: „In seinem mehrbändigen Opus Magnum Fachsprachen ist Stolt
 erfoht tief in den Prozess der Welterschaffung durch Wörter und Wendungen
  vorgedrungen. … Ganz und gar neu hat Ulf Stolterfoht sein Dichten mit d
 em Zyklus rückkehr von krähe erfunden\, einer Tricksterfigur\, bei der m
 an nicht weiß\, ob sie Vogel\, Mensch oder Gott ist. Staunend ist der Les
 er Teil dieses Abenteuers\, vom Wortdonner berührt und vom ‚bewandtnisb
 litz‘ getroffen.“ Mit dem Dichter begibt sich auf die Spuren des gehei
 mnisvollen Gestaltwandlers Monika Rinck\, Lyrikerin\, Essayistin\, Perform
 erin und seit 2024 Vorsitzende des Kuratoriums der Stiftung Lyrik Kabinett
 .\n\n___________________________________________ \n\n… bei seinem ersten
  auftritt im lyrik-kabinett war der junge krähe schreck-\nlich abgebrannt
 . nur noch zehn d-mark im sack. da er nicht wusste\, ob das abend-\nessen 
 übernommen wird\, beantwortete er sich die bange frage: pizza oder drei\n
 große bier – klar und deutlich mit: bier! doch dann kam ganz überrasch
 end der\n\nhunger. der englische lyriker zu seiner rechten hatte den pizza
 rand abgetrennt …\n\nUlf Stolterfoht\, aus: rückkehr von krähe. Kookbo
 oks 2025.
CATEGORIES:Gespräch / Diskussion,Lesung,Vortrag
LOCATION:Stiftung Lyrik Kabinett\, Amalienstraße 83 a\, München\, Bayern\
 , 80799\, München\, Deutschland
GEO:48.15127;11.578853
X-APPLE-STRUCTURED-LOCATION;VALUE=URI;X-ADDRESS=Amalienstraße 83 a\, Münc
 hen\, Bayern\, 80799\, München\, Deutschland;X-APPLE-RADIUS=100;X-TITLE=S
 tiftung Lyrik Kabinett:geo:48.15127,11.578853
END:VEVENT
BEGIN:VTIMEZONE
TZID:Europe/Berlin
X-LIC-LOCATION:Europe/Berlin
BEGIN:STANDARD
DTSTART:20251026T020000
TZOFFSETFROM:+0200
TZOFFSETTO:+0100
TZNAME:CET
END:STANDARD
END:VTIMEZONE
END:VCALENDAR